BEGIN:VCALENDAR
VERSION:2.0
PRODID:-//The American Library in Paris - ECPv6.15.20//NONSGML v1.0//EN
CALSCALE:GREGORIAN
METHOD:PUBLISH
X-ORIGINAL-URL:https://americanlibraryinparis.org
X-WR-CALDESC:Events for The American Library in Paris
REFRESH-INTERVAL;VALUE=DURATION:PT1H
X-Robots-Tag:noindex
X-PUBLISHED-TTL:PT1H
BEGIN:VTIMEZONE
TZID:Europe/Paris
BEGIN:DAYLIGHT
TZOFFSETFROM:+0100
TZOFFSETTO:+0200
TZNAME:CEST
DTSTART:20210328T010000
END:DAYLIGHT
BEGIN:STANDARD
TZOFFSETFROM:+0200
TZOFFSETTO:+0100
TZNAME:CET
DTSTART:20211031T010000
END:STANDARD
BEGIN:DAYLIGHT
TZOFFSETFROM:+0100
TZOFFSETTO:+0200
TZNAME:CEST
DTSTART:20220327T010000
END:DAYLIGHT
BEGIN:STANDARD
TZOFFSETFROM:+0200
TZOFFSETTO:+0100
TZNAME:CET
DTSTART:20221030T010000
END:STANDARD
BEGIN:DAYLIGHT
TZOFFSETFROM:+0100
TZOFFSETTO:+0200
TZNAME:CEST
DTSTART:20230326T010000
END:DAYLIGHT
BEGIN:STANDARD
TZOFFSETFROM:+0200
TZOFFSETTO:+0100
TZNAME:CET
DTSTART:20231029T010000
END:STANDARD
END:VTIMEZONE
BEGIN:VEVENT
DTSTART;TZID=Europe/Paris:20220806T110000
DTEND;TZID=Europe/Paris:20220806T120000
DTSTAMP:20260420T161815
CREATED:20220604T110357Z
LAST-MODIFIED:20220604T110421Z
UID:36184-1659783600-1659787200@americanlibraryinparis.org
SUMMARY:Farewell\, Kirsty (all ages)
DESCRIPTION:Farewell\, Kirsty\n\nall ages\n \n\n\n  \nJoin us for a Scotland and unicorn-themed farewell party for Librarian Kirsty McCulloch Reid \nChildren’s and Teens’ Services Librarian and YAFF Coordinator Kirsty McCulloch Reid will be leaving the American Library in Paris at the end of the summer to relocate back to Scotland. Kirsty’s contributions since she first began at the Library in 2015 are innumerable. She spearheaded the effort to grow YAFF to the incredible festival it has become\, and she set a very high bar for accessibility in our catalog\, along with assisting voracious readers find great books every day she comes to work. Kirsty will remain a part of the library community\, and will continue as YAFF Coordinator on a volunteer basis for 2023. Two farewell celebrations will be hosted for Library members: one on Saturday 6 August at 11h00 for children ages 0–12 and their families\, and other on Saturday 6 August at 14h00 for teens. \n\nImportant information: This event is for Library members\, and advance registration is required. Caregivers are expected to familiarize themselves with the Library Policy for Children and the Rules and Code of Conduct so that we can provide a pleasant library environment for all patrons. Questions about collections and programs for children and teens can be sent to the Library’s Children’s and Teens’ Services Manager\, Celeste Rhoads: celeste@americanlibraryinparis.org. \n  \nChildren in the Library Policy\n \nRegister here\n \n\n\n\nWe are an independent\, nonprofit organization celebrating our 101st year of service. With your continued support\, we are able to provide over 200 programs each year for ages 0–18. If you would like to support the Library\, you can make a donation to help sustain this vital institution\, and programs such as this one. \n\n\nDonate to the Library
URL:https://americanlibraryinparis.org/event/36184/
CATEGORIES:Kids
ATTACH;FMTTYPE=image/jpeg:https://americanlibraryinparis.org/wp-content/uploads/2022/06/scotland-g48f8f3171_640-e1654340552738.jpg
END:VEVENT
BEGIN:VEVENT
DTSTART;TZID=Europe/Paris:20220806T140000
DTEND;TZID=Europe/Paris:20220806T153000
DTSTAMP:20260420T161815
CREATED:20220604T105216Z
LAST-MODIFIED:20220604T111310Z
UID:36181-1659794400-1659799800@americanlibraryinparis.org
SUMMARY:Sundae Saturday: Farewell\, Kirsty (ages 12–18)
DESCRIPTION:Sundae Saturday: Farewell\, Kirsty\n\nFor ages 12–18 \n\n\n  \nJoin us for ice-cream sundaes and a farewell party for Children’s and Teens’ Services Librarian Kirsty McCulloch Reid. \nChildren’s and Teens’ Services Librarian and YAFF Coordinator Kirsty McCulloch Reid will be leaving the American Library in Paris at the end of the summer to relocate back to Scotland. Kirsty’s contributions since she first began at the Library in 2015 are innumerable. She spearheaded the effort to grow YAFF to the incredible festival it has become\, and she set a very high bar for accessibility in our catalog\, along with assisting voracious readers find great books every day she comes to work. Kirsty will remain a part of the library community\, and will continue as YAFF Coordinator on a volunteer basis for 2023. Two farewell celebrations will be hosted for Library members: one on Saturday 6 August at 11h00 for children ages 0–12 and their families\, and other on Saturday 6 August at 14h00 for teens. \n  \n\n\n\nImportant information: Advance registration is required to attend this event. Participation in teen events is free for Library members and 10 euros per person for non-members. Masks are strongly encouraged for all Library visitors ages 6 and up\, staff\, and volunteers. Library visitors are expected to familiarize themselves with the Rules and Code of Conduct so that we can provide a pleasant library environment for all patrons. Questions about collections and programs for children and teens can be sent to the Library’s Children’s and Teens’ Services Manager\, Celeste Rhoads: celeste@americanlibraryinparis.org. \nWe thank you for your continued support and for being a part of the Library community! \nRegister here\n \n\nDonate to the Library
URL:https://americanlibraryinparis.org/event/sundae-saturday-farewell-kirsty-ages-12-18/
CATEGORIES:Teens
ATTACH;FMTTYPE=image/jpeg:https://americanlibraryinparis.org/wp-content/uploads/2022/06/bowl-g1f2af279e_640-e1654339916151.jpg
END:VEVENT
BEGIN:VEVENT
DTSTART;TZID=Europe/Paris:20220813T110000
DTEND;TZID=Europe/Paris:20220813T120000
DTSTAMP:20260420T161815
CREATED:20220717T063001Z
LAST-MODIFIED:20220717T064040Z
UID:37268-1660388400-1660392000@americanlibraryinparis.org
SUMMARY:Friendship Bracelets (all ages)
DESCRIPTION:Friendship Bracelets \nall ages\n \n\n\n  \nLearn how to braid a friendship bracelet\, or two (for ages 6+) or make a beaded bracelet for someone special. \n\nChildren ages 5 and under must be accompanied by a chaperone for the duration of this workshop. Children between the ages of 6–12 may participate in the program on their own\, while their chaperone remains inside the Library.  \n\n  \n\nImportant information: This event is for Library members\, and advance registration is required. Caregivers are expected to familiarize themselves with the Library Policy for Children and the Rules and Code of Conduct so that we can provide a pleasant library environment for all patrons. Questions about collections and programs for children and teens can be sent to the Library’s Children’s and Teens’ Services Manager\, Celeste Rhoads: celeste@americanlibraryinparis.org. \n  \nChildren in the Library Policy\n \nRegister here\n \n\n\n\nWe are an independent\, nonprofit organization celebrating our 101st year of service. With your continued support\, we are able to provide over 200 programs each year for ages 0–18. If you would like to support the Library\, you can make a donation to help sustain this vital institution\, and programs such as this one. \n  \n\nDonate to the Library
URL:https://americanlibraryinparis.org/event/friendship-bracelets-all-ages/
CATEGORIES:Kids
ATTACH;FMTTYPE=image/jpeg:https://americanlibraryinparis.org/wp-content/uploads/2022/07/friendship-3233624_640-e1720238601857.jpg
END:VEVENT
BEGIN:VEVENT
DTSTART;TZID=Europe/Paris:20220827T130000
DTEND;TZID=Europe/Paris:20220827T150000
DTSTAMP:20260420T161815
CREATED:20220819T151918Z
LAST-MODIFIED:20221214T083738Z
UID:40902-1661605200-1661612400@americanlibraryinparis.org
SUMMARY:Written in Ink: a Writing Workshop with Jion Sheibani (ages 12–18)
DESCRIPTION:[vc_row][vc_column][vc_column_text] \n  \n  \nAbout Jion Sheibani: Jion is the author and illustrator of the young adult novel The Silver Chain\, as well as the picture book Lily & The Polar Bears and The Worries young fiction series. She grew up in Brighton and now lives in Paris with her family. She’s a self-taught illustrator and studied English literature at Oxford University. When she moved to Paris\, she taught English to students at Sciences Po and ENSAE universities before opening her own language school for children\, Anglofun. Now\, she mainly draws and writes in her garden studio. As well as picture books and young fiction\, she also writes and illustrates for older readers. Find out more about Jion and her work here.[/vc_column_text][vc_column_text css=”.vc_custom_1660631740014{border-left-width: 8px !important;padding-left: 8px !important;border-left-color: #9e0143 !important;border-left-style: solid !important;}”]Important information: This event is for Library members\, and advance registration is required. Please note: masks are strongly encouraged for all Library visitors ages 6 and up\, staff\, and volunteers. Caregivers are expected to familiarize themselves with the Library Policy for Children and the Rules and Code of Conduct so that we can provide a pleasant library environment for all patrons. Questions about collections and programs for children and teens can be sent to the Library’s Children’s and Teens’ Services Manager\, Celeste Rhoads: celeste@americanlibraryinparis.org.[/vc_column_text][vc_row_inner][vc_column_inner width=”1/2″][vc_btn title=”Library Policy” style=”custom” custom_background=”#194573″ custom_text=”#ffffff” size=”lg” align=”center” i_icon_fontawesome=”fas fa-child” add_icon=”true” link=”url:https%3A%2F%2Famericanlibraryinparis.org%2Fchildren-in-the-library-policy%2F|target:_blank”][/vc_column_inner][vc_column_inner width=”1/2″][vc_btn title=”Register here” style=”custom” custom_background=”#194573″ custom_text=”#ffffff” size=”lg” align=”center” i_icon_fontawesome=”fas fa-marker” add_icon=”true” custom_onclick=”true” link=”url:https%3A%2F%2Fdocs.google.com%2Fforms%2Fd%2Fe%2F1FAIpQLSd5TCdLG5SUoIBsTXOGxFyquyWZEFp9vcmgHF5HepHEHgwqKw%2Fviewform%3Fusp%3Dsf_link|title:Register%20here|target:_blank” custom_onclick_code=”https://docs.google.com/forms/d/e/1FAIpQLSd5TCdLG5SUoIBsTXOGxFyquyWZEFp9vcmgHF5HepHEHgwqKw/viewform?usp=sf_link”][/vc_column_inner][/vc_row_inner][/vc_column][/vc_row]
URL:https://americanlibraryinparis.org/event/written-in-ink-a-writing-workshop-with-jion-sheibani-ages-12-18-2/
LOCATION:The American Library in Paris
CATEGORIES:Teens
ATTACH;FMTTYPE=image/jpeg:https://americanlibraryinparis.org/wp-content/uploads/2022/06/fountain-pen-1854169_640-e1655824029688.jpg
END:VEVENT
END:VCALENDAR