BEGIN:VCALENDAR
VERSION:2.0
PRODID:-//The American Library in Paris - ECPv6.15.20//NONSGML v1.0//EN
CALSCALE:GREGORIAN
METHOD:PUBLISH
X-WR-CALNAME:The American Library in Paris
X-ORIGINAL-URL:https://americanlibraryinparis.org
X-WR-CALDESC:Events for The American Library in Paris
REFRESH-INTERVAL;VALUE=DURATION:PT1H
X-Robots-Tag:noindex
X-PUBLISHED-TTL:PT1H
BEGIN:VTIMEZONE
TZID:Europe/Paris
BEGIN:DAYLIGHT
TZOFFSETFROM:+0100
TZOFFSETTO:+0200
TZNAME:CEST
DTSTART:20180325T010000
END:DAYLIGHT
BEGIN:STANDARD
TZOFFSETFROM:+0200
TZOFFSETTO:+0100
TZNAME:CET
DTSTART:20181028T010000
END:STANDARD
BEGIN:DAYLIGHT
TZOFFSETFROM:+0100
TZOFFSETTO:+0200
TZNAME:CEST
DTSTART:20190331T010000
END:DAYLIGHT
BEGIN:STANDARD
TZOFFSETFROM:+0200
TZOFFSETTO:+0100
TZNAME:CET
DTSTART:20191027T010000
END:STANDARD
BEGIN:DAYLIGHT
TZOFFSETFROM:+0100
TZOFFSETTO:+0200
TZNAME:CEST
DTSTART:20200329T010000
END:DAYLIGHT
BEGIN:STANDARD
TZOFFSETFROM:+0200
TZOFFSETTO:+0100
TZNAME:CET
DTSTART:20201025T010000
END:STANDARD
BEGIN:DAYLIGHT
TZOFFSETFROM:+0100
TZOFFSETTO:+0200
TZNAME:CEST
DTSTART:20210328T010000
END:DAYLIGHT
BEGIN:STANDARD
TZOFFSETFROM:+0200
TZOFFSETTO:+0100
TZNAME:CET
DTSTART:20211031T010000
END:STANDARD
END:VTIMEZONE
BEGIN:VEVENT
DTSTART;TZID=Europe/Paris:20200114T193000
DTEND;TZID=Europe/Paris:20200114T210000
DTSTAMP:20260422T095316
CREATED:20190905T085928Z
LAST-MODIFIED:20200114T163435Z
UID:17868-1579030200-1579035600@americanlibraryinparis.org
SUMMARY:Evenings with an Author: Dana Thomas\, Fashionopolis: The Price of Fast Fashion and the Future of Clothes
DESCRIPTION:An investigation into the damage wrought by the colossal clothing industry – and the grassroots\, high-tech\, international movement fighting to reform it by New York Times bestselling author and journalist Dana Thomas. \nIn Fashionopolis\, journalist Dana Thomas surveys the environmental and human cost of a globalized\, profit-hungry supply chain: sweatshop labour\, ecological degradation\, overconsumption\, waste and creative exhaustion. As awareness of the damage inflicted on the planet by globalisation and consumerism increases\, “Fashionopolis” investigates the way that the clothing industry has become environmentally and ethically unsustainable. \nBut Fashionopolis also documents renewal\, and how technology and purpose are changing how we buy and produce clothes: from 3D printing to clean denim processing\, from smart manufacturing to hyperlocalism\, from the creation of truly circular fabrics to lab-grown leather. We have all been casual about how we get dressed. Fashionopolis is the first comprehensive look at how to change. \nDana is the author of Gods and Kings and the New York Times bestseller Deluxe. She began her career writing for the Style section of The Washington Post\, and she has served as a cultural and fashion correspondent for Newsweek in Paris. She is a regular contributor to The New York Times Style section and has written for The New York Times Magazine\, The New Yorker\, The Wall Street Journal\, the Financial Times\, Vogue\, Harper’s Bazaar\, T: The New York Times Style Magazine\, and Architectural Digest. In 2016\, the French Minister of Culture named Dana a Chevalier of the Order of Arts and Letters. She lives in Paris. \nA book sale will follow the event\, with books provided by The Red Wheelbarrow Bookstore.
URL:https://americanlibraryinparis.org/event/evenings-with-an-author-dana-thomas/
CATEGORIES:Adults,General
ATTACH;FMTTYPE=image/jpeg:https://americanlibraryinparis.org/wp-content/uploads/2019/09/RStl_B5Q-e1572009957748.jpeg
END:VEVENT
BEGIN:VEVENT
DTSTART;VALUE=DATE:20191224
DTEND;VALUE=DATE:20200102
DTSTAMP:20260422T095316
CREATED:20190320T125841Z
LAST-MODIFIED:20250727T073359Z
UID:14701-1577145600-1577923199@americanlibraryinparis.org
SUMMARY:Library is closed
DESCRIPTION:The Library is closed from Tuesday 22 December 2019 until Wednesday 1 January 2020. The Library will reopen at 10h00 on Thursday 2 January 2020.
URL:https://americanlibraryinparis.org/event/library-is-closed-62/
CATEGORIES:Adults,Kids,Teens
END:VEVENT
BEGIN:VEVENT
DTSTART;TZID=Europe/Paris:20191218T103000
DTEND;TZID=Europe/Paris:20191218T113000
DTSTAMP:20260422T095316
CREATED:20191120T111732Z
LAST-MODIFIED:20191120T111732Z
UID:19093-1576665000-1576668600@americanlibraryinparis.org
SUMMARY:Story Hour (ages 3-5): In the Forest
DESCRIPTION:For ages 3-5 \n  \n3-5 year-olds and their grown-ups are invited to join us for our weekly Wednesday Story Hour! No advance registration is required\, but we recommend that you arrive a few minutes early\, as seating is limited. The program lasts one hour and features songs\, stories and hand rhymes in English followed by a simple craft project that children can take home and keep. Caregivers are expected to sit on the floor with their little ones and participate in the program. \n  \nFor this Story Hour\, we’ll be reading stories set in the forest! \n  \n \n  \nPlease remember: \n– each child must be accompanied by an adult chaperone\n– arrive on time so that everyone can make the most of this activity\n– sing along to the best of your ability to model for your little ones\n– use quiet voices when leaving the Children’s Library\n– pass on guidelines to nannies and other caregivers \nWith your help\, we can develop and nurture your child’s love of books and the library! \n  \n  \n\nWednesday Story Hours are drop-in and do not require advance registration. However\, each child attending Story Hour must have their own Library card\, or be covered by a family membership otherwise the non-member fee applies. Unless otherwise stated\, all programs are free for library members and 10€ for non-members. Caregivers are expected to familiarize themselves with these guidelines so that we can provide a pleasant library environment for all patrons.\n\n  \n 
URL:https://americanlibraryinparis.org/event/story-hour-ages-3-5-in-the-forest/2019-12-18/
CATEGORIES:Kids
END:VEVENT
BEGIN:VEVENT
DTSTART;TZID=Europe/Paris:20191217T193000
DTEND;TZID=Europe/Paris:20191217T210000
DTSTAMP:20260422T095316
CREATED:20191025T125005Z
LAST-MODIFIED:20191025T144155Z
UID:18616-1576611000-1576616400@americanlibraryinparis.org
SUMMARY:Evenings with an Author: David Chaffetz in conversation with Celestine Bohlen
DESCRIPTION:David Chaffetz read Persian\, Turkish and Arabic at Harvard University with Wheeler Thackston\, Richard Frye\, Anne-Marie Schimmel and Stuart Cary Welch. He worked for the Encyclopedia Iranica under Ehsan Yarshater. He wrote A Journey through Afghanistan (Chicago\, 2006). Over a period of 45 years he has travelled extensively in India\, Central Asia and China. \nHis latest book is Three Asian Divas: Women\, Art and Culture in Shiraz\, Dehli and Yangzhou. The diva is a nearly universal phenomenon. Wherever poetry\, music and mime have been practiced with virtuosity\, great women performers always take centre stage. Traditional Asian divas are however less well known and understood among English language readers than the great divas of Mozart and Puccini. Whether from Shiraz at the court of the Injuids\, from Delhi during the twilight of the Moghuls\, or from Yangzhou under the last Ming emperors\, these Asian divas constitute the first identifiably modern women. Though practicing classical and tradition-bound arts\, they were economically independent\, and were free to give or withhold love. Indeed\, in many ways\, they paved the way for the emergence of the modern woman in Asian societies. \n  \nFor his evening at the Library\, David will be in conversation with Celestine Bohlen\, a former foreign correspondent for The New York Times\, Washington Post and Bloomberg\, who did tours in Moscow\, Rome\, Budapest and Paris.  She now lives in Paris\, where she writes occasionally for The New York Times and teaches at SciencesPo. \n  \n“In Three Asian Divas\, David Chaffetz zeroes in on erasures in the history of these traditions: the brilliant women performers\, virtuoso singers\, and dancers who graced and cut a swath through the opulent courts of Iran\, India\, and China. These were dazzling enough to be able to make their fortunes\, and their own choices\, in cultures where women were subordinate and invisible” (Liz Gray). Celestine will explore with David the themes of tradition and virtuosity\, exploitation and empowerment\, as evidenced in the lives of the divas.
URL:https://americanlibraryinparis.org/event/evenings-with-an-author-david-chaffetz-in-conversation-with-celestine-bohlen/
CATEGORIES:Adults
ATTACH;FMTTYPE=image/jpeg:https://americanlibraryinparis.org/wp-content/uploads/2019/10/david-chaffetz-new-1-e1572014455861.jpg
END:VEVENT
END:VCALENDAR