BEGIN:VCALENDAR
VERSION:2.0
PRODID:-//The American Library in Paris - ECPv6.15.20//NONSGML v1.0//EN
CALSCALE:GREGORIAN
METHOD:PUBLISH
X-ORIGINAL-URL:https://americanlibraryinparis.org
X-WR-CALDESC:Events for The American Library in Paris
REFRESH-INTERVAL;VALUE=DURATION:PT1H
X-Robots-Tag:noindex
X-PUBLISHED-TTL:PT1H
BEGIN:VTIMEZONE
TZID:Europe/Paris
BEGIN:DAYLIGHT
TZOFFSETFROM:+0100
TZOFFSETTO:+0200
TZNAME:CEST
DTSTART:20200329T010000
END:DAYLIGHT
BEGIN:STANDARD
TZOFFSETFROM:+0200
TZOFFSETTO:+0100
TZNAME:CET
DTSTART:20201025T010000
END:STANDARD
BEGIN:DAYLIGHT
TZOFFSETFROM:+0100
TZOFFSETTO:+0200
TZNAME:CEST
DTSTART:20210328T010000
END:DAYLIGHT
BEGIN:STANDARD
TZOFFSETFROM:+0200
TZOFFSETTO:+0100
TZNAME:CET
DTSTART:20211031T010000
END:STANDARD
BEGIN:DAYLIGHT
TZOFFSETFROM:+0100
TZOFFSETTO:+0200
TZNAME:CEST
DTSTART:20220327T010000
END:DAYLIGHT
BEGIN:STANDARD
TZOFFSETFROM:+0200
TZOFFSETTO:+0100
TZNAME:CET
DTSTART:20221030T010000
END:STANDARD
END:VTIMEZONE
BEGIN:VEVENT
DTSTART;TZID=Europe/Paris:20211204T140000
DTEND;TZID=Europe/Paris:20211204T150000
DTSTAMP:20260420T162457
CREATED:20211028T213737Z
LAST-MODIFIED:20211028T213848Z
UID:32106-1638626400-1638630000@americanlibraryinparis.org
SUMMARY:Fantasy Book Club: "Daughter of Smoke and Bone" (ages 12–adult)
DESCRIPTION:Join fantasy fans to discuss new worlds and novels with like-minded readers.\n\nCLICK HERE TO REGISTER. \n\n\n\nIn December\, we’ll be reading and discussing Daughter of Smoke and Bone by Laini Taylor. Some book club members will likely read the entire trilogy. Beware—there will be spoilers! This book club meeting will be facilitated by Children’s and Teens’ Services Manager (and fantasy fan) Celeste Rhoads.\n \n\n  \n\n\nAdvance registration is required. Participation in this book group is open to Library members\, and free of charge. If you are not yet a Library member\, but would like to participate\, please join the Library before this session.\n\n\n\nCLICK HERE TO REGISTER. \n\n\nFor questions about collections or events at the Library for Children and Teens contact Celeste Rhoads\, our Children’s and Teens’ Services Manager: celeste@americanlibraryinparis.org.
URL:https://americanlibraryinparis.org/event/fantasy-book-club-daughter-of-smoke-and-bone-ages-12-adult/
CATEGORIES:Adults,Teens
ATTACH;FMTTYPE=image/jpeg:https://americanlibraryinparis.org/wp-content/uploads/2021/10/external-content.duckduckgo.com_-e1635457045854.jpg
END:VEVENT
END:VCALENDAR