BEGIN:VCALENDAR
VERSION:2.0
PRODID:-//The American Library in Paris - ECPv6.15.20//NONSGML v1.0//EN
CALSCALE:GREGORIAN
METHOD:PUBLISH
X-ORIGINAL-URL:https://americanlibraryinparis.org
X-WR-CALDESC:Events for The American Library in Paris
REFRESH-INTERVAL;VALUE=DURATION:PT1H
X-Robots-Tag:noindex
X-PUBLISHED-TTL:PT1H
BEGIN:VTIMEZONE
TZID:Europe/Paris
BEGIN:DAYLIGHT
TZOFFSETFROM:+0100
TZOFFSETTO:+0200
TZNAME:CEST
DTSTART:20200329T010000
END:DAYLIGHT
BEGIN:STANDARD
TZOFFSETFROM:+0200
TZOFFSETTO:+0100
TZNAME:CET
DTSTART:20201025T010000
END:STANDARD
BEGIN:DAYLIGHT
TZOFFSETFROM:+0100
TZOFFSETTO:+0200
TZNAME:CEST
DTSTART:20210328T010000
END:DAYLIGHT
BEGIN:STANDARD
TZOFFSETFROM:+0200
TZOFFSETTO:+0100
TZNAME:CET
DTSTART:20211031T010000
END:STANDARD
BEGIN:DAYLIGHT
TZOFFSETFROM:+0100
TZOFFSETTO:+0200
TZNAME:CEST
DTSTART:20220327T010000
END:DAYLIGHT
BEGIN:STANDARD
TZOFFSETFROM:+0200
TZOFFSETTO:+0100
TZNAME:CET
DTSTART:20221030T010000
END:STANDARD
END:VTIMEZONE
BEGIN:VEVENT
DTSTART;TZID=Europe/Paris:20211105T190000
DTEND;TZID=Europe/Paris:20211105T210000
DTSTAMP:20260420T181507
CREATED:20211001T102557Z
LAST-MODIFIED:20211001T102557Z
UID:31641-1636138800-1636146000@americanlibraryinparis.org
SUMMARY:Bad Art Night (ages 12–18)
DESCRIPTION:For ages 12–18 \nCLICK HERE TO REGISTER. \nTalented artists\, amateurs\, and anyone who just wants to come make a big mess with paint\, clay\, glitter\, decoupage and pastels . . . you’re all invited to a night of bad art at the Library. Free your imagination and forget the rules as we compete to make the worst art possible. No need to bring anything along but your creativity. We’ll have all the supplies you need to make an original creation. \n\n\n  \nAdvance registration is required for this event. Participation in teen events is free for Library members. If you are not yet a Library member\, but would like to participate\, please join the Library. A signed permission slip is required to attend this event.\n \n\nCLICK HERE TO REGISTER. \nQuestions about collections and programs for teens can be sent to the Library’s Children’s and Teens’ Services Manager\, Celeste Rhoads: celeste@americanlibraryinparis.org. \n  \nWe thank you for your continued support and for being a part of the Library community! If you would like to support the Library\, you can donate here to help sustain this vital institution in its 100th year of service.
URL:https://americanlibraryinparis.org/event/bad-art-night-ages-12-18/
CATEGORIES:Teens
ATTACH;FMTTYPE=image/jpeg:https://americanlibraryinparis.org/wp-content/uploads/2021/10/painting-gca6211d02_1920-e1633083705208.jpg
END:VEVENT
BEGIN:VEVENT
DTSTART;TZID=Europe/Paris:20211121T140000
DTEND;TZID=Europe/Paris:20211121T150000
DTSTAMP:20260420T181507
CREATED:20211105T111742Z
LAST-MODIFIED:20211107T213447Z
UID:32236-1637503200-1637506800@americanlibraryinparis.org
SUMMARY:The Perfect Thank-You Letter (ages 12–18)
DESCRIPTION:ages 12–18 \n\nCLICK HERE TO REGISTER \n\n\n\nLearn how to craft the perfect thank-you letter with the help of Children’s and Teens’ Services Librarian Kirsty. We’ll provide all of the supplies you need to craft a heartfelt note in time to send for the Thanksgiving holiday!\n \n\n  \n\n\nAdvance registration is required. Participation in this book group is open to Library members\, and free of charge. If you are not yet a Library member\, but would like to participate\, please join the Library before this session.\n\n\n\nCLICK HERE TO REGISTER \n\n\nFor questions about collections or events at the Library for Children and Teens contact Celeste Rhoads\, our Children’s and Teens’ Services Manager: celeste@americanlibraryinparis.org.
URL:https://americanlibraryinparis.org/event/the-perfect-thank-you-letter-ages-12-18/
CATEGORIES:Teens
ATTACH;FMTTYPE=image/jpeg:https://americanlibraryinparis.org/wp-content/uploads/2021/11/thank-you-g03ae134d4_1920-e1636111056184.jpg
END:VEVENT
BEGIN:VEVENT
DTSTART;TZID=Europe/Paris:20211127T160000
DTEND;TZID=Europe/Paris:20211127T170000
DTSTAMP:20260420T181507
CREATED:20210924T140535Z
LAST-MODIFIED:20210924T140535Z
UID:31460-1638028800-1638032400@americanlibraryinparis.org
SUMMARY:Graphic Novel Book Club: "Heartstopper" (ages 12–18)
DESCRIPTION:Join graphic novel fans to discuss great works with other readers.\n\nCLICK HERE TO REGISTER. \nJoin us for animated discussion of Alice Osman’s Heartstopper\, plus its sequel. This book club meeting will be facilitated by Children’s and Teens’ Services Manager (and fantasy fan) Celeste.\n\n\n  \n\n\nAdvance registration is required for this book group. Participation in this book group is open to Library members\, and free of charge. If you are not yet a Library member\, but would like to participate\, please join the Library before this session.\n\n\n\nCLICK HERE TO REGISTER. \n\n\nFor questions about collections or events at the Library for Children and Teens contact Celeste Rhoads\, our Children’s and Teens’ Services Manager: celeste@americanlibraryinparis.org.
URL:https://americanlibraryinparis.org/event/graphic-novel-book-club-heartstopper-ages-12-18/
CATEGORIES:Teens
ATTACH;FMTTYPE=image/jpeg:https://americanlibraryinparis.org/wp-content/uploads/2021/09/heartstopper-e1632492329766.jpg
END:VEVENT
END:VCALENDAR