BEGIN:VCALENDAR
VERSION:2.0
PRODID:-//The American Library in Paris - ECPv6.15.20//NONSGML v1.0//EN
CALSCALE:GREGORIAN
METHOD:PUBLISH
X-WR-CALNAME:The American Library in Paris
X-ORIGINAL-URL:https://americanlibraryinparis.org
X-WR-CALDESC:Events for The American Library in Paris
REFRESH-INTERVAL;VALUE=DURATION:PT1H
X-Robots-Tag:noindex
X-PUBLISHED-TTL:PT1H
BEGIN:VTIMEZONE
TZID:Europe/Paris
BEGIN:DAYLIGHT
TZOFFSETFROM:+0100
TZOFFSETTO:+0200
TZNAME:CEST
DTSTART:20200329T010000
END:DAYLIGHT
BEGIN:STANDARD
TZOFFSETFROM:+0200
TZOFFSETTO:+0100
TZNAME:CET
DTSTART:20201025T010000
END:STANDARD
BEGIN:DAYLIGHT
TZOFFSETFROM:+0100
TZOFFSETTO:+0200
TZNAME:CEST
DTSTART:20210328T010000
END:DAYLIGHT
BEGIN:STANDARD
TZOFFSETFROM:+0200
TZOFFSETTO:+0100
TZNAME:CET
DTSTART:20211031T010000
END:STANDARD
BEGIN:DAYLIGHT
TZOFFSETFROM:+0100
TZOFFSETTO:+0200
TZNAME:CEST
DTSTART:20220327T010000
END:DAYLIGHT
BEGIN:STANDARD
TZOFFSETFROM:+0200
TZOFFSETTO:+0100
TZNAME:CET
DTSTART:20221030T010000
END:STANDARD
END:VTIMEZONE
BEGIN:VEVENT
DTSTART;TZID=Europe/Paris:20211008T190000
DTEND;TZID=Europe/Paris:20211008T210000
DTSTAMP:20260420T195254
CREATED:20210902T115909Z
LAST-MODIFIED:20210902T115909Z
UID:31046-1633719600-1633726800@americanlibraryinparis.org
SUMMARY:Teen Night: Halloween Decorating Party  (ages 12–18)
DESCRIPTION:For ages 12–18 \nHelp us set the mood for Halloween\, and get to know other teens in the community! \nCLICK HERE TO REGISTER. \nGet in the mood for Halloween by helping to decorate the Library\, then make some of your own decorations to take home. We’ll have all the supplies you need! \n\n\n  \nAdvance registration is required for this event. Participation in teen events is free for Library members. If you are not yet a Library member\, but would like to participate\, please join the Library. A signed permission slip is required to attend this event.\n \n\nCLICK HERE TO REGISTER. \nQuestions about collections and programs for teens can be sent to the Library’s Children’s and Teens’ Services Manager\, Celeste Rhoads: celeste@americanlibraryinparis.org. \n  \nWe thank you for your continued support and for being a part of the Library community! If you would like to support the Library\, you can donate here to help sustain this vital institution in its 100th year of service.
URL:https://americanlibraryinparis.org/event/teen-night-halloween-decorating-party-ages-12-18/
CATEGORIES:Teens
ATTACH;FMTTYPE=image/jpeg:https://americanlibraryinparis.org/wp-content/uploads/2021/09/halloween-2895016_640-e1630583939903.jpg
END:VEVENT
BEGIN:VEVENT
DTSTART;TZID=Europe/Paris:20211029T190000
DTEND;TZID=Europe/Paris:20211029T210000
DTSTAMP:20260420T195254
CREATED:20210924T162618Z
LAST-MODIFIED:20210924T163013Z
UID:31463-1635534000-1635541200@americanlibraryinparis.org
SUMMARY:Zombie Fashion Show (ages 12–adult)
DESCRIPTION:The American Library in Paris presents: the annual Halloween Extravaganza\, with a Zombie Fashion Show on 29 October! \nCLICK HERE TO REGISTER TO ATTEND THE SHOW. \nThe American Library in Paris will turn into a hot spot for the undead the evening of Friday 29 October. The event will feature zombie trivia\, a screening of an original film by the Library’s Master Shot Film Club\, a reading by Amy Plum (who will share a zombie battle scene from her novel Die for Me)\, and a Zombie catwalk show (a.k.a. a costume contest for the best of the undead).The audience will select the most rotten of the zombies after zombie contestants crawl the catwalk. \n\n\nTo participate in the event as part of the audience\, registration is required. Register early\, as space is limited! \n\nContestants may REGISTER HERE. To enter as a zombie fashion show contestant\, fill out this form online by 15 October. Each zombie contestant will have 2 minutes to walk the catwalk in their undead attire. Fashion show prizes will be awarded in the following categories: \n\nLiterary Zombie Masterpiece\nMost Creative Zombie Attire\nUndead Zombie Champion\n\n\nAdvance registration is required for this event. Participation is free for Library members. If you are not yet a Library member\, but would like to participate\, please join the Library.  \nCLICK HERE TO REGISTER TO ATTEND THE SHOW. \n\nQuestions about the Halloween Extravaganza? Contact the Children’s and Teens’ Services Department: 01 53 59 12 69 or send an email to Children’s and Teens’ Services Manager Celeste Rhoads: celeste@americanlibraryinparis.org \nWe thank you for your continued support and for being a part of the Library community! If you would like to support the Library\, you can donate here to help sustain this vital institution in its 100th year of service.
URL:https://americanlibraryinparis.org/event/zombie-fashion-show-ages-12-adult/
CATEGORIES:Adults,Teens
ATTACH;FMTTYPE=image/jpeg:https://americanlibraryinparis.org/wp-content/uploads/2021/09/zombie-fashion-show-pic-e1632500771425.jpg
END:VEVENT
BEGIN:VEVENT
DTSTART;TZID=Europe/Paris:20211030T180000
DTEND;TZID=Europe/Paris:20211030T190000
DTSTAMP:20260420T195254
CREATED:20211002T144156Z
LAST-MODIFIED:20211021T152502Z
UID:31663-1635616800-1635620400@americanlibraryinparis.org
SUMMARY:Costume Contest (all ages) (Virtual/In-person)
DESCRIPTION:The American Library in Paris presents: the annual Halloween Extravaganza\, with a virtual costume contest\, Halloween trivia\, and fun on Saturday 30 October.\n \nCLICK HERE TO REGISTER \nJoin us for a virtual celebration\, trivia\, and a costume contest! Log in from wherever you are in the world and join in the fun! The event will begin at 18h00\, and will be streamed live from The American Library in Paris in front of a small on-site audience. If you would like to attend the in-person event\, read through all of the information on this page. \nSubmit your costume photos by 15h00 on 30 October to be included in the show (information below). \n\nYou may send in your photos all month long! Submit photos to: kidsandteens@americanlibraryinparis.org (Subject: “Costume Contest Photo.” Include the child’s name and the title of their costume in the body of the email). \nPrizes will be awarded in these categories: \nReally Funny Costume \nReally Pretty Costume \nReally Scary Costume \nGreat Book-Inspired Costume \nGreat Superhero Costume \nGreat Classic Halloween Costume \nGreat Animal Costume \nGreat Costume Incorporating a Mask \nReally Creative Costume \nGreat Parent Costume \n\n\nTeens and adults are also encouraged to attend our Zombie Fashion Show on Friday 29 October. \n\n\nAdvance registration is required for this event. Participation is free for Library members. If you are not yet a Library member\, but would like to participate\, please join the Library. If you want to join us for the in-person event\, click on the word “institution” on this page.\n \nCLICK HERE TO REGISTER \n\nQuestions about the Halloween Extravaganza? Contact the Children’s and Teens’ Services Department: 01 53 59 12 69 or send an email to Children’s and Teens’ Services Manager Celeste Rhoads: celeste@americanlibraryinparis.org \nWe thank you for your continued support and for being a part of the Library community! If you would like to support the Library\, you can donate here to help sustain this vital institution in its 100th year of service.
URL:https://americanlibraryinparis.org/event/virtual-costume-contest-all-ages/
CATEGORIES:Kids,Teens
ATTACH;FMTTYPE=image/jpeg:https://americanlibraryinparis.org/wp-content/uploads/2021/10/KrystalKenney_ALP_Halloween2018-9-scaled-e1633173359871.jpg
END:VEVENT
END:VCALENDAR