BEGIN:VCALENDAR
VERSION:2.0
PRODID:-//The American Library in Paris - ECPv6.15.20//NONSGML v1.0//EN
CALSCALE:GREGORIAN
METHOD:PUBLISH
X-ORIGINAL-URL:https://americanlibraryinparis.org
X-WR-CALDESC:Events for The American Library in Paris
REFRESH-INTERVAL;VALUE=DURATION:PT1H
X-Robots-Tag:noindex
X-PUBLISHED-TTL:PT1H
BEGIN:VTIMEZONE
TZID:Europe/Paris
BEGIN:DAYLIGHT
TZOFFSETFROM:+0100
TZOFFSETTO:+0200
TZNAME:CEST
DTSTART:20200329T010000
END:DAYLIGHT
BEGIN:STANDARD
TZOFFSETFROM:+0200
TZOFFSETTO:+0100
TZNAME:CET
DTSTART:20201025T010000
END:STANDARD
BEGIN:DAYLIGHT
TZOFFSETFROM:+0100
TZOFFSETTO:+0200
TZNAME:CEST
DTSTART:20210328T010000
END:DAYLIGHT
BEGIN:STANDARD
TZOFFSETFROM:+0200
TZOFFSETTO:+0100
TZNAME:CET
DTSTART:20211031T010000
END:STANDARD
BEGIN:DAYLIGHT
TZOFFSETFROM:+0100
TZOFFSETTO:+0200
TZNAME:CEST
DTSTART:20220327T010000
END:DAYLIGHT
BEGIN:STANDARD
TZOFFSETFROM:+0200
TZOFFSETTO:+0100
TZNAME:CET
DTSTART:20221030T010000
END:STANDARD
END:VTIMEZONE
BEGIN:VEVENT
DTSTART;TZID=Europe/Paris:20210917T190000
DTEND;TZID=Europe/Paris:20210917T210000
DTSTAMP:20260420T213449
CREATED:20210902T114244Z
LAST-MODIFIED:20220126T132000Z
UID:31040-1631905200-1631912400@americanlibraryinparis.org
SUMMARY:Teen Night: All the Best* Word Games (ages 12–18)
DESCRIPTION:For ages 12–18 \nCompete with other English-speaking teens in a fun night of word games \nCLICK HERE TO REGISTER. \nJoin other English-speaking teens in the community\, our teen librarian\, and volunteers as we play some of the best word games: Apples to Apples\, Bananagrams\, Scrabble\, and Tabboo. There’s no need to know the rules ahead of time. We’ll teach you how to play and you will have a chance to try each one during this speed-gaming event. \n\n*Yes\, we know that the term “best” is subjective. We’re happy to debate with you about the best word games! \n\n  \nAdvance registration is required for this event. Participation in teen events is free for Library members. If you are not yet a Library member\, but would like to participate\, please join the Library. A signed permission slip is required to attend this event.\n \n\nCLICK HERE TO REGISTER. \nQuestions about collections and programs for teens can be sent to the Library’s Children’s and Teens’ Services Manager\, Celeste Rhoads: celeste@americanlibraryinparis.org. \n  \nWe thank you for your continued support and for being a part of the Library community! If you would like to support the Library\, you can donate here to help sustain this vital institution in its 100th year of service. \n  \nImage courtesy of: Ling Languages https://ling-app.com/
URL:https://americanlibraryinparis.org/event/all-the-best-word-games-ages-12-18/
CATEGORIES:Teens
ATTACH;FMTTYPE=image/jpeg:https://americanlibraryinparis.org/wp-content/uploads/2021/09/scrabble-62837_1280-e1630582950196.jpg
END:VEVENT
BEGIN:VEVENT
DTSTART;TZID=Europe/Paris:20210918T130000
DTEND;TZID=Europe/Paris:20210918T160000
DTSTAMP:20260420T213449
CREATED:20210909T161830Z
LAST-MODIFIED:20210910T134748Z
UID:31201-1631970000-1631980800@americanlibraryinparis.org
SUMMARY:Research Skills Scavenger Hunt (ages 12–18)
DESCRIPTION:For ages 12–18 \nCLICK HERE TO REGISTER. \nMeet Children’s and Teens’ Services Manager Celeste\, in the Children’s Library to get started and find out a few tips and tricks for navigating the Library\, online databases\, and more\, then head into the stacks on a (silent) adventure. This event will be in-person. Masks are required. The scavenger hunt will last about one hour\, and is a self-guided activity. \n\n\n  \nAdvance registration is required for this event. Participation in teen events is free for Library members. If you are not yet a Library member\, but would like to participate\, please join the Library.\n \n\nCLICK HERE TO REGISTER. \nQuestions about collections and programs for teens can be sent to the Library’s Children’s and Teens’ Services Manager\, Celeste Rhoads: celeste@americanlibraryinparis.org. \n  \nWe thank you for your continued support and for being a part of the Library community! If you would like to support the Library\, you can donate here to help sustain this vital institution in its 100th year of service.
URL:https://americanlibraryinparis.org/event/research-skills-scavenger-hunt-ages-12-18/
CATEGORIES:Teens
ATTACH;FMTTYPE=image/jpeg:https://americanlibraryinparis.org/wp-content/uploads/2021/09/concept-1868728_640-e1631181447525.jpg
END:VEVENT
BEGIN:VEVENT
DTSTART;TZID=Europe/Paris:20210924T190000
DTEND;TZID=Europe/Paris:20210924T210000
DTSTAMP:20260420T213449
CREATED:20210811T112919Z
LAST-MODIFIED:20210902T114420Z
UID:30711-1632510000-1632517200@americanlibraryinparis.org
SUMMARY:Teen Night: The Art of the Short Story (ages 12–18)
DESCRIPTION:Work on your craft in a fun\, creative atmosphere with other young writers \nCLICK HERE TO REGISTER. \nNovels\, and short stories are distinct art forms. Together\, we’ll look at examples of short stories in several genres—and from horrific to heartwarming. Each has common elements\, and we will discuss them and begin our own short stories together\, with time to share for those who want feedback. Each participant will leave with a list of resources for places where young writers can submit short stories\, as well as information about the Library’s 2022 Young Authors Fiction Festival. \n\n\n  \nAdvance registration is required for this event. Participation in teen events is free for Library members. If you are not yet a Library member\, but would like to participate\, please join the Library. A signed permission slip is required to attend this event.\n \n\nCLICK HERE TO REGISTER. \nQuestions about collections and programs for teens can be sent to the Library’s Children’s and Teens’ Services Manager\, Celeste Rhoads: celeste@americanlibraryinparis.org. \n  \nWe thank you for your continued support and for being a part of the Library community! If you would like to support the Library\, you can donate here to help sustain this vital institution in its 100th year of service.
URL:https://americanlibraryinparis.org/event/the-art-of-the-short-story-ages-12-18/
CATEGORIES:Teens
ATTACH;FMTTYPE=image/jpeg:https://americanlibraryinparis.org/wp-content/uploads/2021/08/writing-828911_1280-e1675173311316.jpg
END:VEVENT
BEGIN:VEVENT
DTSTART;TZID=Europe/Paris:20210926T140000
DTEND;TZID=Europe/Paris:20210926T170000
DTSTAMP:20260420T213449
CREATED:20210910T135128Z
LAST-MODIFIED:20210910T135128Z
UID:31236-1632664800-1632675600@americanlibraryinparis.org
SUMMARY:Research Skills Scavenger Hunt (ages 12–18)
DESCRIPTION:For ages 12–18 \nCLICK HERE TO REGISTER. \nMeet Children’s and Teens’ Services Librarian Kirsty in the Children’s Library to get started and find out a few tips and tricks for navigating the Library\, online databases\, and more\, then head into the stacks on a (silent) adventure. This event will be in-person. Masks are required. The scavenger hunt will last about one hour\, and is a self-guided activity. \n\n\n  \nAdvance registration is required for this event. Participation in teen events is free for Library members. If you are not yet a Library member\, but would like to participate\, please join the Library.\n \n\nCLICK HERE TO REGISTER. \nQuestions about collections and programs for teens can be sent to the Library’s Children’s and Teens’ Services Manager\, Celeste Rhoads: celeste@americanlibraryinparis.org. \n  \nWe thank you for your continued support and for being a part of the Library community! If you would like to support the Library\, you can donate here to help sustain this vital institution in its 100th year of service.
URL:https://americanlibraryinparis.org/event/research-skills-scavenger-hunt-ages-12-18-2/
CATEGORIES:Teens
ATTACH;FMTTYPE=image/jpeg:https://americanlibraryinparis.org/wp-content/uploads/2021/09/concept-1868728_640-e1631181447525.jpg
END:VEVENT
END:VCALENDAR