BEGIN:VCALENDAR
VERSION:2.0
PRODID:-//The American Library in Paris - ECPv6.15.20//NONSGML v1.0//EN
CALSCALE:GREGORIAN
METHOD:PUBLISH
X-WR-CALNAME:The American Library in Paris
X-ORIGINAL-URL:https://americanlibraryinparis.org
X-WR-CALDESC:Events for The American Library in Paris
REFRESH-INTERVAL;VALUE=DURATION:PT1H
X-Robots-Tag:noindex
X-PUBLISHED-TTL:PT1H
BEGIN:VTIMEZONE
TZID:Europe/Paris
BEGIN:DAYLIGHT
TZOFFSETFROM:+0100
TZOFFSETTO:+0200
TZNAME:CEST
DTSTART:20200329T010000
END:DAYLIGHT
BEGIN:STANDARD
TZOFFSETFROM:+0200
TZOFFSETTO:+0100
TZNAME:CET
DTSTART:20201025T010000
END:STANDARD
BEGIN:DAYLIGHT
TZOFFSETFROM:+0100
TZOFFSETTO:+0200
TZNAME:CEST
DTSTART:20210328T010000
END:DAYLIGHT
BEGIN:STANDARD
TZOFFSETFROM:+0200
TZOFFSETTO:+0100
TZNAME:CET
DTSTART:20211031T010000
END:STANDARD
BEGIN:DAYLIGHT
TZOFFSETFROM:+0100
TZOFFSETTO:+0200
TZNAME:CEST
DTSTART:20220327T010000
END:DAYLIGHT
BEGIN:STANDARD
TZOFFSETFROM:+0200
TZOFFSETTO:+0100
TZNAME:CET
DTSTART:20221030T010000
END:STANDARD
END:VTIMEZONE
BEGIN:VEVENT
DTSTART;TZID=Europe/Paris:20210320T140000
DTEND;TZID=Europe/Paris:20210320T150000
DTSTAMP:20260421T080514
CREATED:20210223T123857Z
LAST-MODIFIED:20210305T103500Z
UID:27958-1616248800-1616252400@americanlibraryinparis.org
SUMMARY:Barbara Diggs on Boycotts\, Strikes\, and Marches (ages 9–18) [VIRTUAL; RSVP REQUIRED]
DESCRIPTION:For children and teens ages 9–18 and their families\n \n  \nDive into history with author Barbara Diggs\, and find out about the pivotal role youth played in protests and movements for change during the Civil Rights Era and the Vietnam War\, then learn about Barbara’s writing and research process for her nonfiction books. Aspiring writers\, curious readers\, and children and teens interested in American History are all encouraged to attend this live\, virtual event. Barbara’s nonfiction titles\, Boycotts\, Strikes\, and Marches\, The Vietnam War\, and Race Relations: The Struggle for Equality in America\, are available in our print collections and on our e-book platforms for members.\n  \nAbout Barbara Diggs: Barbara Diggs writes history books for middle-school children and teens. Her titles include Boycotts\, Strikes\, and Marches\, and Race Relations: The Struggle for Equality in America\, among others. She is currently at work on a middle-grade historical fiction novel. A graduate of Stanford Law School\, Barbara practiced law in New York and Paris for several years before becoming a professional writer. You can find out more about Barbara on her website. \n  \nThis event is free and open to the public. Advance registration is required. Click HERE  to register. \nWe thank you for your continued support and for being a part of the Library community! If you would like to support the Library\, you can donate here to help sustain this vital institution in its 100th year of service. \n  \n 
URL:https://americanlibraryinparis.org/event/boycotts-strikes-and-marches-talking-about-youth-in-revolt-with-barbara-diggs-ages-9-18-virtual-rsvp-required/
CATEGORIES:Kids,Teens
ATTACH;FMTTYPE=image/jpeg:https://americanlibraryinparis.org/wp-content/uploads/2021/02/51kA9ShS72L._SX398_BO1204203200_-e1614084336397.jpg
END:VEVENT
END:VCALENDAR