BEGIN:VCALENDAR
VERSION:2.0
PRODID:-//The American Library in Paris - ECPv6.15.20//NONSGML v1.0//EN
CALSCALE:GREGORIAN
METHOD:PUBLISH
X-ORIGINAL-URL:https://americanlibraryinparis.org
X-WR-CALDESC:Events for The American Library in Paris
REFRESH-INTERVAL;VALUE=DURATION:PT1H
X-Robots-Tag:noindex
X-PUBLISHED-TTL:PT1H
BEGIN:VTIMEZONE
TZID:Europe/Paris
BEGIN:DAYLIGHT
TZOFFSETFROM:+0100
TZOFFSETTO:+0200
TZNAME:CEST
DTSTART:20190331T010000
END:DAYLIGHT
BEGIN:STANDARD
TZOFFSETFROM:+0200
TZOFFSETTO:+0100
TZNAME:CET
DTSTART:20191027T010000
END:STANDARD
BEGIN:DAYLIGHT
TZOFFSETFROM:+0100
TZOFFSETTO:+0200
TZNAME:CEST
DTSTART:20200329T010000
END:DAYLIGHT
BEGIN:STANDARD
TZOFFSETFROM:+0200
TZOFFSETTO:+0100
TZNAME:CET
DTSTART:20201025T010000
END:STANDARD
BEGIN:DAYLIGHT
TZOFFSETFROM:+0100
TZOFFSETTO:+0200
TZNAME:CEST
DTSTART:20210328T010000
END:DAYLIGHT
BEGIN:STANDARD
TZOFFSETFROM:+0200
TZOFFSETTO:+0100
TZNAME:CET
DTSTART:20211031T010000
END:STANDARD
END:VTIMEZONE
BEGIN:VEVENT
DTSTART;TZID=Europe/Paris:20201002T190000
DTEND;TZID=Europe/Paris:20201002T210000
DTSTAMP:20260421T161013
CREATED:20200727T143020Z
LAST-MODIFIED:20200727T145124Z
UID:23823-1601665200-1601672400@americanlibraryinparis.org
SUMMARY:Bilingual-ish: A Language-Exploring Comic Workshop with Kate Gavino (ages 12-18) [VIRTUAL—RSVP REQUIRED]
DESCRIPTION:For ages 12-18 \n\n  \n\nJoin graphic novel author and artist Kate Gavino for a virtual workshop that explores the highs and lows of being bilingual\, whether you’re perfectly fluent in many languages or struggling to get by in more than one. By making our own short comics\, we’ll explore different language personalities\, un-translatable words\, and more. Come prepared to share a little about your second (or third or fourth) tongue\, but don’t worry: there’s no need to be perfectly fluent in those languages. In fact\, misunderstandings and mix-ups will be encouraged in our comics! \n\n  \nAbout Kate: Kate Gavino is a writer and illustrator. She is the creator of the website\, Last Night’s Reading\, which was compiled into a published collection by Penguin Books in 2015. Her work has been featured in BuzzFeed\, Lenny Letter\, Oprah.com\, Rookie\, and more. She was recently named one of Brooklyn Magazine’s 30 Under 30. Her second book\, Sanpaku\, was published by BOOM! Studios in 2018. \n\nThis event is free and open to Library members ages 12-18 and will be hosted virtually via Zoom. Advance registration is required (sign-up HERE). Registered participants will be sent a link to join the event via email.\n \nSend an email to Celeste\, our Children’s and Teens’ Services Manager\, with questions about events and collections for children and teens: celeste@americanlibraryinparis.org. \n  \n  \n\n  \n  \n 
URL:https://americanlibraryinparis.org/event/bilingual-ishl-a-language-exploring-comic-workshop-with-kate-gavino-ages-12-18-virtual-rsvp-required/
CATEGORIES:Teens
ATTACH;FMTTYPE=image/jpeg:https://americanlibraryinparis.org/wp-content/uploads/2020/07/american-library-workshop-e1595860177573.jpg
END:VEVENT
END:VCALENDAR