BEGIN:VCALENDAR
VERSION:2.0
PRODID:-//The American Library in Paris - ECPv6.15.20//NONSGML v1.0//EN
CALSCALE:GREGORIAN
METHOD:PUBLISH
X-ORIGINAL-URL:https://americanlibraryinparis.org
X-WR-CALDESC:Events for The American Library in Paris
REFRESH-INTERVAL;VALUE=DURATION:PT1H
X-Robots-Tag:noindex
X-PUBLISHED-TTL:PT1H
BEGIN:VTIMEZONE
TZID:Europe/Paris
BEGIN:DAYLIGHT
TZOFFSETFROM:+0100
TZOFFSETTO:+0200
TZNAME:CEST
DTSTART:20190331T010000
END:DAYLIGHT
BEGIN:STANDARD
TZOFFSETFROM:+0200
TZOFFSETTO:+0100
TZNAME:CET
DTSTART:20191027T010000
END:STANDARD
BEGIN:DAYLIGHT
TZOFFSETFROM:+0100
TZOFFSETTO:+0200
TZNAME:CEST
DTSTART:20200329T010000
END:DAYLIGHT
BEGIN:STANDARD
TZOFFSETFROM:+0200
TZOFFSETTO:+0100
TZNAME:CET
DTSTART:20201025T010000
END:STANDARD
BEGIN:DAYLIGHT
TZOFFSETFROM:+0100
TZOFFSETTO:+0200
TZNAME:CEST
DTSTART:20210328T010000
END:DAYLIGHT
BEGIN:STANDARD
TZOFFSETFROM:+0200
TZOFFSETTO:+0100
TZNAME:CET
DTSTART:20211031T010000
END:STANDARD
END:VTIMEZONE
BEGIN:VEVENT
DTSTART;TZID=Europe/Paris:20200731T230000
DTEND;TZID=Europe/Paris:20200731T230000
DTSTAMP:20260421T211653
CREATED:20200423T120811Z
LAST-MODIFIED:20200704T142620Z
UID:22314-1596236400-1596236400@americanlibraryinparis.org
SUMMARY:Teen Advisory Group (ages 12-18): deadline to apply
DESCRIPTION:Open to Library members ages 12-18 \n  \nProvide valuable feedback and earn community service hours! \n  \n  \nProvide feedback and earn community service hours by joining the Teen Advisory Group. Members of this group are asked to read widely and offer opinions on a selection of new books that we are considering adding to our collections. you may also be asked to offer input and suggestions about programs\, policies and more. Your feedback will be valued\, and you will learn about the behind-the-scenes work of the Library and its staff while getting a sneak peek at some of the newest YA reads. Meetings will be held one Friday a month from 17h00-18h30\, and members of the group are expected to commit to attending all meetings. \n  \nMeetings will be held one Friday a month at The American Library in Paris from 17h00-18h30 (dates TBC)\n \n  \nIf you are interested in joining the Teen Advisory Group\, fill in the ONLINE APPLICATION (HERE) by 31 July at 23h00. You can expect to write one to two paragraphs about your reading\, and why you would like to join the group. \n  \n If you know what you want to see in the Library\, and if you want to have more input in our collections and programs for teens\, submit an application today! \n 
URL:https://americanlibraryinparis.org/event/teen-advisory-group-ages-12-18-deadline-to-apply-click-here/
CATEGORIES:Teens
END:VEVENT
END:VCALENDAR