BEGIN:VCALENDAR
VERSION:2.0
PRODID:-//The American Library in Paris - ECPv6.15.20//NONSGML v1.0//EN
CALSCALE:GREGORIAN
METHOD:PUBLISH
X-ORIGINAL-URL:https://americanlibraryinparis.org
X-WR-CALDESC:Events for The American Library in Paris
REFRESH-INTERVAL;VALUE=DURATION:PT1H
X-Robots-Tag:noindex
X-PUBLISHED-TTL:PT1H
BEGIN:VTIMEZONE
TZID:Europe/Paris
BEGIN:DAYLIGHT
TZOFFSETFROM:+0100
TZOFFSETTO:+0200
TZNAME:CEST
DTSTART:20190331T010000
END:DAYLIGHT
BEGIN:STANDARD
TZOFFSETFROM:+0200
TZOFFSETTO:+0100
TZNAME:CET
DTSTART:20191027T010000
END:STANDARD
BEGIN:DAYLIGHT
TZOFFSETFROM:+0100
TZOFFSETTO:+0200
TZNAME:CEST
DTSTART:20200329T010000
END:DAYLIGHT
BEGIN:STANDARD
TZOFFSETFROM:+0200
TZOFFSETTO:+0100
TZNAME:CET
DTSTART:20201025T010000
END:STANDARD
BEGIN:DAYLIGHT
TZOFFSETFROM:+0100
TZOFFSETTO:+0200
TZNAME:CEST
DTSTART:20210328T010000
END:DAYLIGHT
BEGIN:STANDARD
TZOFFSETFROM:+0200
TZOFFSETTO:+0100
TZNAME:CET
DTSTART:20211031T010000
END:STANDARD
END:VTIMEZONE
BEGIN:VEVENT
DTSTART;TZID=Europe/Paris:20200314T110000
DTEND;TZID=Europe/Paris:20200314T123000
DTSTAMP:20260422T041206
CREATED:20200210T222703Z
LAST-MODIFIED:20200313T124639Z
UID:20636-1584183600-1584189000@americanlibraryinparis.org
SUMMARY:Understanding the American University Application Process: with College Goals (By RSVP)
DESCRIPTION:For teens ages 14-18 and their parents\n \n  \n \n  \nGiven the demands of the American university application process\, students interested in pursuing higher education in the US are well advised to begin preparing early in their high school career\, before they embark on their final two years of study toward the French bac or IB. What do families need to know for their students to be successful and satisfied by the university search and application process? How do students produce a strong and interesting US university application? College Goals’ counselor\, Andrea van Niekerk\, will address the complexities of the American university application system\, with special attention to the process and mechanics. She will also take questions about applications to the UK and Canada. \nAndrea van Niekerk served for a decade as Associate Director of Admission\, with a focus on international applicants\, and as Freshman Academic Adviser at Brown University\, and as Residential Fellow in a dorm at Stanford. Still based in Silicon Valley\, she now works with both American and international families as part of College Goals. Andrea has over 20 years of experience in college admission and academic advising. She is a member of NACAC\, HECA and WACAC. \nCollege Goals is a university admission consulting practice specializing in counseling families interested in higher education opportunities in the US and in English-medium universities around the world. The team of counselors collectively offers decades of professional experience in higher education. College Goals provides expert counsel and support throughout the college search and application process\, including choice of appropriate institutions\, test requirements\, recommendations and interviews\, essay writing\, and the preparation of distinguished applications. Find out more at www.collegegoals.com \nThis event has been moved to a virtual forma\, and will be hosted via GoToMeeting.  \n  \nDownload the application here: \nhttps://global.gotomeeting.com/install/150274525 \nTo join\, download the meeting here:\n https://global.gotomeeting.com/join/150274525  \n To connect by phone:\nÉtats-Unis: +1 (571) 317-3112 \nAccess code: 150-274-525 \nSend an email to Celeste\, our Children’s and Teens’ Services Manager\, with questions: celeste@americanlibraryinparis.org.\n \n 
URL:https://americanlibraryinparis.org/event/understanding-the-american-university-application-process-with-college-goals-by-rsvp/
CATEGORIES:Adults,Teens
END:VEVENT
END:VCALENDAR