BEGIN:VCALENDAR
VERSION:2.0
PRODID:-//The American Library in Paris - ECPv6.15.20//NONSGML v1.0//EN
CALSCALE:GREGORIAN
METHOD:PUBLISH
X-ORIGINAL-URL:https://americanlibraryinparis.org
X-WR-CALDESC:Events for The American Library in Paris
REFRESH-INTERVAL;VALUE=DURATION:PT1H
X-Robots-Tag:noindex
X-PUBLISHED-TTL:PT1H
BEGIN:VTIMEZONE
TZID:Europe/Paris
BEGIN:DAYLIGHT
TZOFFSETFROM:+0100
TZOFFSETTO:+0200
TZNAME:CEST
DTSTART:20190331T010000
END:DAYLIGHT
BEGIN:STANDARD
TZOFFSETFROM:+0200
TZOFFSETTO:+0100
TZNAME:CET
DTSTART:20191027T010000
END:STANDARD
BEGIN:DAYLIGHT
TZOFFSETFROM:+0100
TZOFFSETTO:+0200
TZNAME:CEST
DTSTART:20200329T010000
END:DAYLIGHT
BEGIN:STANDARD
TZOFFSETFROM:+0200
TZOFFSETTO:+0100
TZNAME:CET
DTSTART:20201025T010000
END:STANDARD
BEGIN:DAYLIGHT
TZOFFSETFROM:+0100
TZOFFSETTO:+0200
TZNAME:CEST
DTSTART:20210328T010000
END:DAYLIGHT
BEGIN:STANDARD
TZOFFSETFROM:+0200
TZOFFSETTO:+0100
TZNAME:CET
DTSTART:20211031T010000
END:STANDARD
END:VTIMEZONE
BEGIN:VEVENT
DTSTART;TZID=Europe/Paris:20200208T170000
DTEND;TZID=Europe/Paris:20200208T183000
DTSTAMP:20260422T055342
CREATED:20191207T114419Z
LAST-MODIFIED:20191207T114419Z
UID:19481-1581181200-1581186600@americanlibraryinparis.org
SUMMARY:Teen Writing Group (ages 12-18) (By Application-FULL)
DESCRIPTION:For ages 12-18. \n  \nJoin fellow aspiring writers in a relaxed and creative setting where you can share your ideas\, get feedback and work on your technique.  \n  \n \n  \nExperienced writers and amateurs are all welcome to join these meetings\, share their work and get to know other writers in our community. Some Teen Writing Group meetings are led by group members\, others by guest hosts. Authors who have hosted the Teen Writing Group in the past include: Clementine Beauvais\, Ta-Nehisi Coates\, Anne Heltzel\, Amy Plum\, Hilary Reyl\, Tioka Tokdira\, and James Verini. \n  \nApplications for this group were accepted through July 2019 and will open for the 2020-2021 season in spring. \n  \nQuestions about collections and programs for teens can be sent to the Library’s children’s and teens’ services manager\, Celeste: celeste@americanlibraryinparis.org. \n  \nImage credit: “Typewriter B/W…now write the story” by THOR – CC BY 2.0
URL:https://americanlibraryinparis.org/event/teen-writing-group-ages-12-18-by-application-full-4/
CATEGORIES:Teens
END:VEVENT
BEGIN:VEVENT
DTSTART;TZID=Europe/Paris:20200222T170000
DTEND;TZID=Europe/Paris:20200222T183000
DTSTAMP:20260422T055342
CREATED:20191028T162418Z
LAST-MODIFIED:20200201T201106Z
UID:18659-1582390800-1582396200@americanlibraryinparis.org
SUMMARY:Debut author interview and book premier celebration: with Echo Brown (ages 12-Adult)
DESCRIPTION:Ages 12-Adult\n \n  \nJoin us for an afternoon with actress and writer Echo Brown. Echo will talk about how she came to write her debut YA novel\, Black Girl Unlimited: The Remarkable Story of a Teenage Wizard\, answer questions from our Children’s and Teens’ Services Manager\, then read from her debut novel. A book signing will follow\, and light refreshments will be provided. Teens\, older children and adults are all welcome to attend this event\, which will take place in the Library’s lower level reading room. \n  \nAbout Echo:  Echo Brown is a visionary storyteller from Cleveland\, Ohio\, who strives to inspire and provoke. Her first solo show\, “Black Virgins Are Not for Hipsters” was nominated as one of the top ten best shows of 2015 by the San Francisco Chronicle and ran for two years to sold-out crowds both nationally and internationally. Written\, produced\, and performed by Brown\, the success of the show led to invitations to speak at Facebook\, Google\, Dropbox\, and TedX Talks. A graduate of Dartmouth College\, Brown took an unusual path into the arts. She began her career as an investigator\, examining allegations of misconduct against members of the New York City Police Department. She went on to study investigative journalism at Columbia Graduate School of Journalism before moving to California to work for Challenge Day\, an award-winning nonprofit that provides transformational workshops in high schools. While there as a motivational speaker\, she created and performed dynamic and moving stories for high school audiences across the country. The response led Brown to become a full-time storyteller. \nBrown’s search for creative expression continues with her first book\, Black Girl Unlimited: The Remarkable Story of a Teenage Wizard\, available through Macmillan January 2020. The book is an attempt to come to terms with Brown’s difficult and traumatic childhood and to make meaning out of incomprehensible experiences. Heavily autobiographical yet infused with magical realism\, Black Girl Unlimited fearlessly explores the intersections of poverty\, sexual violence\, depression\, racism\, and sexism—all through the arc of a transcendent\, coming-of-age story. Echo is currently based in Paris\, France and is working on a second book about her time at Dartmouth and another one woman show about Josephine Baker. Find out more here. \n  \nThis event is free and open to the public. Doors open at 16h30 for non-members.\n \n  \nFor questions about programs for teens\, and young writers\, contact our children’s and teens’ services manager\, Celeste Rhoads: celeste@americanlibraryinparis.org.\n \n  \n  \n  \n  \n  \n 
URL:https://americanlibraryinparis.org/event/a-conversation-with-echo-brown-ages-12-adult/
CATEGORIES:Teens
END:VEVENT
BEGIN:VEVENT
DTSTART;TZID=Europe/Paris:20200228T193000
DTEND;TZID=Europe/Paris:20200228T210000
DTSTAMP:20260422T055342
CREATED:20200122T164201Z
LAST-MODIFIED:20200122T164201Z
UID:20178-1582918200-1582923600@americanlibraryinparis.org
SUMMARY:Teen Night: Save Yourself from Trolls (By RSVP)
DESCRIPTION:For ages 12-18 \n  \n  \n  \n​​\nWhy do we call it real news? Assess real vs. fake news vs. satire\, verifiable facts vs. urban legends\, and authentic images vs. photo-shopped pictures. We bet you’ll be surprised at what you discover\, and the ways you’ll be able to foil online trolls once you’ve left the Library!\n\nLight refreshments provided. Prizes too!\n  \n  \nAdvance registration is required for this event (sign-up HERE). Participation in this events is free for Library members and 10€ for non-members. \n  \nSend an email to Celeste\, our Children’s and Teens’ Services Manager\, with questions about events and programs for children and teens: celeste@americanlibraryinparis.org. \n  \n  \n  \n  \n  \n 
URL:https://americanlibraryinparis.org/event/teen-night-save-yourself-from-trolls-by-rsvp/
CATEGORIES:Teens
ATTACH;FMTTYPE=image/png:https://americanlibraryinparis.org/wp-content/uploads/2020/01/truth-lies-arrows-e1579711289100.png
END:VEVENT
END:VCALENDAR