BEGIN:VCALENDAR
VERSION:2.0
PRODID:-//The American Library in Paris - ECPv6.15.20//NONSGML v1.0//EN
CALSCALE:GREGORIAN
METHOD:PUBLISH
X-WR-CALNAME:The American Library in Paris
X-ORIGINAL-URL:https://americanlibraryinparis.org
X-WR-CALDESC:Events for The American Library in Paris
REFRESH-INTERVAL;VALUE=DURATION:PT1H
X-Robots-Tag:noindex
X-PUBLISHED-TTL:PT1H
BEGIN:VTIMEZONE
TZID:Europe/Paris
BEGIN:DAYLIGHT
TZOFFSETFROM:+0100
TZOFFSETTO:+0200
TZNAME:CEST
DTSTART:20180325T010000
END:DAYLIGHT
BEGIN:STANDARD
TZOFFSETFROM:+0200
TZOFFSETTO:+0100
TZNAME:CET
DTSTART:20181028T010000
END:STANDARD
BEGIN:DAYLIGHT
TZOFFSETFROM:+0100
TZOFFSETTO:+0200
TZNAME:CEST
DTSTART:20190331T010000
END:DAYLIGHT
BEGIN:STANDARD
TZOFFSETFROM:+0200
TZOFFSETTO:+0100
TZNAME:CET
DTSTART:20191027T010000
END:STANDARD
BEGIN:DAYLIGHT
TZOFFSETFROM:+0100
TZOFFSETTO:+0200
TZNAME:CEST
DTSTART:20200329T010000
END:DAYLIGHT
BEGIN:STANDARD
TZOFFSETFROM:+0200
TZOFFSETTO:+0100
TZNAME:CET
DTSTART:20201025T010000
END:STANDARD
BEGIN:DAYLIGHT
TZOFFSETFROM:+0100
TZOFFSETTO:+0200
TZNAME:CEST
DTSTART:20210328T010000
END:DAYLIGHT
BEGIN:STANDARD
TZOFFSETFROM:+0200
TZOFFSETTO:+0100
TZNAME:CET
DTSTART:20211031T010000
END:STANDARD
END:VTIMEZONE
BEGIN:VEVENT
DTSTART;VALUE=DATE:20191224
DTEND;VALUE=DATE:20200102
DTSTAMP:20260422T073534
CREATED:20190320T125841Z
LAST-MODIFIED:20250727T073359Z
UID:14701-1577145600-1577923199@americanlibraryinparis.org
SUMMARY:Library is closed
DESCRIPTION:The Library is closed from Tuesday 22 December 2019 until Wednesday 1 January 2020. The Library will reopen at 10h00 on Thursday 2 January 2020.
URL:https://americanlibraryinparis.org/event/library-is-closed-62/
CATEGORIES:Adults,Kids,Teens
END:VEVENT
BEGIN:VEVENT
DTSTART;TZID=Europe/Paris:20200122T193000
DTEND;TZID=Europe/Paris:20200122T210000
DTSTAMP:20260422T073534
CREATED:20191204T151231Z
LAST-MODIFIED:20191219T155407Z
UID:19322-1579721400-1579726800@americanlibraryinparis.org
SUMMARY:A Public Panel on the "Bookstagram" Phenomenon with Four Local Bookstagrammers
DESCRIPTION:Please join us for a public panel on the “bookstagram” phenomenon. We will be hosting four Paris-based bookstagrammers for the occasion: moderator Anne-Pauline (@apireading) and panelists Clara (@thebookwormofnotredame)\, Jordan (@sparkyjordy)\, and Romie (@romiewedeservelove). Our panel will explore the ways in which digital reading communities are created and how they enrich the social and intellectual experience of individuals who belong to them. How can “bookstagram” help individuals discover new literature? How is taking part in “bookstagram” different from blogging or creating content on “booktube\,” Facebook\, or Twitter? How do “bookstagrammers” liaise with publishers and authors in order to bring fresh and authentic content to their readers and followers? What motivates someone to become a “bookstagrammer” or follow “bookstagram” accounts and personalities? In what ways can “bookstagrammers” advocate for causes about which they hope to raise awareness\, such as mental health\, underrepresented voices or stories\, LGBTQ+ issues)?\n\n\nAnne-Pauline– Best known as Api on social medias\, I mostly read young adult books (especially dystopia and contemporary) in french and in english. My target audience is young readers 14 and up who are eager to discover books off the beaten track.\n\ninstagram : @apireading \ntwitter : @bluemaevor \nblog : apireading.blogspot.com \n\n  \n  \n  \n  \n  \n  \nClara- Clara is a French bookstagrammer and book blogger known as the Bookworm of Notre-Dame. She has been discussing young adult and middle grade novels\, as well as classics\, for three years now\, to any bookworms online. \nInstagram | Twitter | Goodreads | Blog\n  \n  \n  \n  \n  \n  \n  \n  \nJordan– Social networks are a way for me to get in touch with people who share the same urge to grow an experience new things. It can be through books\, music or simple discussions. Books genres\, representations\, well-being or spirituality are the topics I like to discuss with the people of the internet (who often turn out to become good friends in real life). My credo ? There is a beauty in believing in our potential for good\, we just have to open up and trust that things will be okay! \nInstagram : @sparkyjordy\nTwitter : @sparkyjordy\nFacebook : @sparkyjordy\nYouTube : Sparky Jordy \n  \n  \n  \n  \nRomie– I’ve been on bookstagram for nearly four years and booktube for a year. I consider my different platforms as one safe space for not only myself\, but also the people who follow me. I use this safe space to talk about mental health\, something that’s very important to me\, and diversity in books. \nInstagram: @romiewedeservelove \nYoutube: books & coffee with romie \nTwitter: romiescoffee \n  \n 
URL:https://americanlibraryinparis.org/event/a-public-panel-on-the-bookstagram-phenomenon-with-four-local-bookstagrammers/
CATEGORIES:Adults,Teens
ATTACH;FMTTYPE=image/jpeg:https://americanlibraryinparis.org/wp-content/uploads/2019/12/bookstagram-panel.jpg
END:VEVENT
BEGIN:VEVENT
DTSTART;TZID=Europe/Paris:20200123T193000
DTEND;TZID=Europe/Paris:20200123T203000
DTSTAMP:20260422T073534
CREATED:20200102T172201Z
LAST-MODIFIED:20200122T155909Z
UID:19823-1579807800-1579811400@americanlibraryinparis.org
SUMMARY:Evenings with an Author: Angie Thomas
DESCRIPTION:Please join us for an evening with young adult author Angie Thomas. \n  \nAngie Thomas was born\, raised\, and still lives in Jackson\, Mississippi. A former teen rapper\, she holds a BFA in creative writing from Belhaven University. Her award-winning\, acclaimed debut novel\, The Hate U Give\, is a #1 New York Times bestseller and major motion picture. Her second novel\, On the Come Up\, was released in 2019 and received starred reviews from Publisher’s Weekly\, School Library Journal\, and Kirkus. She is an inaugural winner of the Walter Dean Myers Grant 2015\, awarded by We Need Diverse Books. Find out more about Angie Thomas here. \n  \nDoors will open at 19h00 for this event. Seating is available on a first-come\, first-serve basis. Books will be available for purchase at the Library courtesy of The Red Wheelbarrow bookshop. \n  \nEvenings with an Author are free and open to the public thanks to the generous support of the Annenberg Foundation. \n 
URL:https://americanlibraryinparis.org/event/evenings-with-an-author-angie-thomas/
CATEGORIES:Adults,Teens
ATTACH;FMTTYPE=image/jpeg:https://americanlibraryinparis.org/wp-content/uploads/2020/01/IMG_2103-768x512-e1578052069133.jpg
END:VEVENT
BEGIN:VEVENT
DTSTART;TZID=Europe/Paris:20200125T170000
DTEND;TZID=Europe/Paris:20200125T183000
DTSTAMP:20260422T073534
CREATED:20191130T225738Z
LAST-MODIFIED:20200319T112354Z
UID:19271-1579971600-1579977000@americanlibraryinparis.org
SUMMARY:YA Fantasy Book Club (ages 12-adult) (VIRTUAL - RSVP REQUIRED)
DESCRIPTION:ages 12- Adult\n \n  \n\nThis new three-part book club will allow fantasy fans to discuss new worlds and novels with like-minded readers.\n\n  \n\nYou’re welcome to attend one session\, or as many meetings as you like\, but we encourage you to attend monthly so as to be able to better contribute to discussion. Spoiler Alert: If the group will be discussing the first book in a series\, be prepared to hear a few spoilers during meetings\, as group discussions will likely cover the entire series. For the January meeting\, the group will discuss the Folk of the Air trilogy (The Cruel Prince\, The Wicked King and The Queen of Nothing). All meetings will be held in the Library conference room from 17h00-18h30.\n\n\n\n\n\n\n\n\n\n  \n\n\n\nFor the January meeting (Folk and Faeries)\, participants are asked to read the following books before meeting on Saturday 25 January:\nThe Cruel Prince by Holly Black\nAn Enchantment of Ravens by Margaret Rogerson\n\n  \n\n\n\n\nFor the February meeting (fractured fairy tales)\, participants are asked to read the following books before meeting on Saturday 29 February:\nForest of a Thousand Lanterns by Julie C. Dao\nStepsister by Jennifer Donnelly\n\n\n  \n\n\n\n\nFor the March meeting (fantasy in the modern world)\, participants are asked to read the following books before meeting on Saturday 28 March. Our March meeting will be held virtually via GoToMeeting. Registered participants will be sent a link to join the meeting. Here is our reading for Saturday 28 March at 17h00:\nThe Story of Owen by E.K. Johnston\nShadowshaper by Daniel Jose Older\n\n\n\n\n\n\n\n \n\n\n  \n\n\n\n \n\nAdvance registration is required for this book group (sign-up HERE). Participation in this book group is open to Library members\, and free of charge. If you are not yet a Library member\, but would like to participate\, please join the Library before the first session. Send an email to Celeste Rhoads\, our Children’s and Teens’ Services Manager\, with questions about this event: celeste@americanlibraryinparis.org.
URL:https://americanlibraryinparis.org/event/ya-fantasy-book-club-ages-12-adult-by-rsvp/2020-01-25/
CATEGORIES:Teens
ATTACH;FMTTYPE=image/jpeg:https://americanlibraryinparis.org/wp-content/uploads/2019/11/buckled-book-2180047_1280-e1575391649930.jpg
END:VEVENT
BEGIN:VEVENT
DTSTART;TZID=Europe/Paris:20200131T190000
DTEND;TZID=Europe/Paris:20200131T210000
DTSTAMP:20260422T073534
CREATED:20200107T144040Z
LAST-MODIFIED:20200107T144040Z
UID:19873-1580497200-1580504400@americanlibraryinparis.org
SUMMARY:Teen Night: Flash Fiction with Jane Mobille (ages 12-18) (By RSVP)
DESCRIPTION:For ages 12-18 \n  \nBack by popular demand…Writing from your ♥ with Jane Mobille! \n  \n“For sale: baby shoes\, never worn.” \n– Ernest Hemingway \nWriting from your ♥: Flash Fiction \n  \n \n  \nFlash fiction is a complete story\, written in as little as six and no more than 1000 words. It contains the four elements of short story – protagonist\, conflict\, complication and resolution –   but sometimes they remain unwritten and are just implied. Who has touched both your head & heart?  Using Sandra Cisneros’ The House on Mango Street for inspiration\, join us as we experiment with flash fiction in a creative setting where you can get to know other members of the community. Snacks will be provided! \n  \nAbout Jane Mobille: \nMemoir writer Jane Mobille is also a Professional Certified Coach with extensive experience coaching teens and young adults. Jane uses the tools of writing and coaching to inspire freedom and confidence in young writers as they learn to put their authenticity or “heart” on paper. Editor of the quarterly AAWE News magazine in Paris\, Jane also authors a “Teen Coach” column at the online magazine INSPIRELLE. She holds degrees from Duke\, University of Maryland\, and Thunderbird. \n  \nAdvance registration is required for this event (sign-up HERE). Participation in this events is free for Library members and 10€ for non-members. \n  \nSend an email to Celeste\, our children’s and teens’ services manager\, with questions: celeste@americanlibraryinparis.org. \n  \n  \n  \n  \n  \n 
URL:https://americanlibraryinparis.org/event/teen-night-flash-fiction-with-jane-mobille-ages-12-18-by-rsvp/
CATEGORIES:Teens
END:VEVENT
END:VCALENDAR