BEGIN:VCALENDAR
VERSION:2.0
PRODID:-//The American Library in Paris - ECPv6.15.20//NONSGML v1.0//EN
CALSCALE:GREGORIAN
METHOD:PUBLISH
X-WR-CALNAME:The American Library in Paris
X-ORIGINAL-URL:https://americanlibraryinparis.org
X-WR-CALDESC:Events for The American Library in Paris
REFRESH-INTERVAL;VALUE=DURATION:PT1H
X-Robots-Tag:noindex
X-PUBLISHED-TTL:PT1H
BEGIN:VTIMEZONE
TZID:Europe/Paris
BEGIN:DAYLIGHT
TZOFFSETFROM:+0100
TZOFFSETTO:+0200
TZNAME:CEST
DTSTART:20190331T010000
END:DAYLIGHT
BEGIN:STANDARD
TZOFFSETFROM:+0200
TZOFFSETTO:+0100
TZNAME:CET
DTSTART:20191027T010000
END:STANDARD
BEGIN:DAYLIGHT
TZOFFSETFROM:+0100
TZOFFSETTO:+0200
TZNAME:CEST
DTSTART:20200329T010000
END:DAYLIGHT
BEGIN:STANDARD
TZOFFSETFROM:+0200
TZOFFSETTO:+0100
TZNAME:CET
DTSTART:20201025T010000
END:STANDARD
BEGIN:DAYLIGHT
TZOFFSETFROM:+0100
TZOFFSETTO:+0200
TZNAME:CEST
DTSTART:20210328T010000
END:DAYLIGHT
BEGIN:STANDARD
TZOFFSETFROM:+0200
TZOFFSETTO:+0100
TZNAME:CET
DTSTART:20211031T010000
END:STANDARD
END:VTIMEZONE
BEGIN:VEVENT
DTSTART;TZID=Europe/Paris:20200606T110000
DTEND;TZID=Europe/Paris:20200606T123000
DTSTAMP:20260421T150905
CREATED:20200523T100124Z
LAST-MODIFIED:20200523T100124Z
UID:22845-1591441200-1591446600@americanlibraryinparis.org
SUMMARY:DIY Crafts: Costumes and Masks (ages 6-12) [VIRTUAL - REGISTRATION REQUIRED]
DESCRIPTION:Make a cool headpiece or mask during this DIY crafting event.\n \n \n  \nChildren and their grown-ups are invited to join us for an crafting event direct to your living room\, kitchen\, bedroom\, or wherever you connect. Caregivers are requested to join in with their children and participate in the program. \n  \nParticipants will receive a list of required materials (all readily available in most homes) and then our librarians and volunteers will lead you through fun craft projects to help you get ready for your next costume party. \n  \nThis event requires advance registration. Click HERE to register. \n  \nWe thank you for your continued support and for being a part of the Library community! While the Library facilities are currently closed\, we are thrilled to be able to bring the Library to you virtually. Please don’t hesitate to reach out if you have questions about our events\, collections or programs. Our staff is available remotely to help you. If you would like to support the Library\, you can donate here to help sustain this vital institution in its 100th year of service. \n  \n 
URL:https://americanlibraryinparis.org/event/diy-crafts-costumes-and-masks-ages-6-12-virtual-registration-required/
CATEGORIES:Kids
END:VEVENT
BEGIN:VEVENT
DTSTART;TZID=Europe/Paris:20200612T173000
DTEND;TZID=Europe/Paris:20200612T193000
DTSTAMP:20260421T150905
CREATED:20200604T132532Z
LAST-MODIFIED:20200604T132748Z
UID:23039-1591983000-1591990200@americanlibraryinparis.org
SUMMARY:Young Authors Fiction Festival Celebration Events (VIRTUAL)
DESCRIPTION:YAFF 2020 Celebration Events\n\n\n\n\n\n\n\n\n\n\nThis year’s celebration events will be held virtually via online platform Zoom on Friday 12 June 2020. \nFor each event 1st – 5th  winners in each grade will be announced from the 5 finalists. These live events will be hosted by the Library’s YAFF committee and will include the announcement of the winners by grade\, extracts from the winning stories and comments from the judges. Please join us to celebrate your story and the young writers in our community! \n  \nKindergarten – 5th Grade Celebration from 17h30 \nTopic: YAFF Celebration Event – K-5th Grade\nTime: Jun 12\, 2020 17h30 Paris \nJoin Zoom Meeting\nhttps://us02web.zoom.us/j/89306058742 \nMeeting ID: 893 0605 8742 \n  \n6th Grade – 12th Grade Celebration from 18h30 \nTopic: YAFF Celebration Event – 6th-12th Grades\nTime: Jun 12\, 2020 18h30 Paris \nJoin Zoom Meeting\nhttps://us02web.zoom.us/j/88915160384 \nMeeting ID: 889 1516 0384 \n  \n  \nYAFF Celebration Booklets \nThe Library publishes the 1st-5th place stories in a Celebration Book. One Booklet for Kindergarten-5th Grade and a separate booklet for 6th-12th Grade. These booklets are available for purchase\, and a copy of each booklet is added to the Library collection and will be available for checkout after the Celebration Events. \nThe booklets can be ordered via our website here. Each booklet costs 15€. \nThere are two options for ordering: \n\n\nPick up at the Library during open hours. Payment will be made online before pick up. \n\n\nPostal service. Payment will be made online for booklet(s) and a charge of 5€ applied for the postage.  Postage is only available within Ile-de-France and books will be posted weekly on Fridays. \n\n\nConfirmation of order\, with information on pick up times and days or postal service\, will be sent via email once payment has been received. Please allow 2 working days for confirmation to be sent. \nIf you have any questions about YAFF\, the booklets or the celebration event then please contact yaff@americanlibraryinparis.org
URL:https://americanlibraryinparis.org/event/young-authors-fiction-festival-celebration-events/
CATEGORIES:Kids,Teens
ATTACH;FMTTYPE=image/png:https://americanlibraryinparis.org/wp-content/uploads/2019/12/YAFF-2020-Banner-v1.png
END:VEVENT
BEGIN:VEVENT
DTSTART;TZID=Europe/Paris:20200625T163000
DTEND;TZID=Europe/Paris:20200625T173000
DTSTAMP:20260421T150905
CREATED:20200612T143525Z
LAST-MODIFIED:20200612T144453Z
UID:23168-1593102600-1593106200@americanlibraryinparis.org
SUMMARY:Virtual Bookworms: A book club for ages 9-12 [VIRTUAL - RSVP REQUIRED]
DESCRIPTION:A book club for 9-12-year-olds! \n  \nThis month\, we’re trying out a new book group for kids! The aim of this group is to create a space for strong readers to share books they’ve enjoyed\, and to foster discussion among our community of young readers. Bring along your current or most recent fiction or nonfiction read in English to talk about with the group during our online meeting. \n  \nDuring the meeting\, each child will be asked to: \n\nread the first line of the book they’ve selected\nbriefly tell the rest of the group about the book (genre\, favorite characters\, setting…)\ntell the group whether they recommend the book and why\n\nThis book group is intended for children who read independently\, although parents are welcome to join. Parents and caregivers who participate alongside their children will be expected to have read the novel with their children or to bring along their own children’s book to share and discuss. \n  \n  \nThis program requires advance registration\, and is open to Library members. Click HERE to register. This program is free for Library members. Each child attending must have their own Library card\, or be covered by a family membership. Registered participants will be sent a link to join the event via Zoom. Parents and caregivers are responsible for connecting to the meeting\, and monitoring their children’s use of the internet.\n \n  \n 
URL:https://americanlibraryinparis.org/event/virtual-bookworms-a-book-club-for-ages-9-12-virtual-rsvp-required/
CATEGORIES:Kids
END:VEVENT
BEGIN:VEVENT
DTSTART;TZID=Europe/Paris:20200627T110000
DTEND;TZID=Europe/Paris:20200627T120000
DTSTAMP:20260421T150905
CREATED:20200618T115840Z
LAST-MODIFIED:20200619T080205Z
UID:23293-1593255600-1593259200@americanlibraryinparis.org
SUMMARY:Mixed-Up Fairy Tales (ages 6-12) [VIRTUAL - RSVP REQUIRED]
DESCRIPTION:Ages 6-10\n\n\n \n\n\n\nYou know the original fairy tales. Now\, tune in for a few new takes on the classic stories! This event will be hosted by Children’s and Teens’ Services Manager Celeste\, who will read several new spins on classic stories\, and then lead participants in the creation of their own fairy-tale inspired character art.\n\n\n\n\n\n\n\n\n \n\n\n \n\n\n\n\n\n\n\n\n\n\nThis program requires advance registration\, and is open to Library members. Click HERE to register. Registered participants will be sent a link to join the event via Zoom. Parents and caregivers are responsible for connecting to the meeting\, and monitoring their children’s use of the internet.\n\n\n\n\n \n\n\n 
URL:https://americanlibraryinparis.org/event/mixed-up-fairy-tales-ages-6-12-virtual-rsvp-required/
CATEGORIES:Kids
ATTACH;FMTTYPE=image/jpeg:https://americanlibraryinparis.org/wp-content/uploads/2020/06/narrative-794978_1280-e1592481350516.jpg
END:VEVENT
END:VCALENDAR