BEGIN:VCALENDAR
VERSION:2.0
PRODID:-//The American Library in Paris - ECPv6.15.20//NONSGML v1.0//EN
CALSCALE:GREGORIAN
METHOD:PUBLISH
X-WR-CALNAME:The American Library in Paris
X-ORIGINAL-URL:https://americanlibraryinparis.org
X-WR-CALDESC:Events for The American Library in Paris
REFRESH-INTERVAL;VALUE=DURATION:PT1H
X-Robots-Tag:noindex
X-PUBLISHED-TTL:PT1H
BEGIN:VTIMEZONE
TZID:Europe/Paris
BEGIN:DAYLIGHT
TZOFFSETFROM:+0100
TZOFFSETTO:+0200
TZNAME:CEST
DTSTART:20250330T010000
END:DAYLIGHT
BEGIN:STANDARD
TZOFFSETFROM:+0200
TZOFFSETTO:+0100
TZNAME:CET
DTSTART:20251026T010000
END:STANDARD
BEGIN:DAYLIGHT
TZOFFSETFROM:+0100
TZOFFSETTO:+0200
TZNAME:CEST
DTSTART:20260329T010000
END:DAYLIGHT
BEGIN:STANDARD
TZOFFSETFROM:+0200
TZOFFSETTO:+0100
TZNAME:CET
DTSTART:20261025T010000
END:STANDARD
BEGIN:DAYLIGHT
TZOFFSETFROM:+0100
TZOFFSETTO:+0200
TZNAME:CEST
DTSTART:20270328T010000
END:DAYLIGHT
BEGIN:STANDARD
TZOFFSETFROM:+0200
TZOFFSETTO:+0100
TZNAME:CET
DTSTART:20271031T010000
END:STANDARD
END:VTIMEZONE
BEGIN:VEVENT
DTSTART;TZID=Europe/Paris:20260604T190000
DTEND;TZID=Europe/Paris:20260604T220000
DTSTAMP:20260422T021846
CREATED:20260421T082508Z
LAST-MODIFIED:20260421T082508Z
UID:79456-1780599600-1780610400@americanlibraryinparis.org
SUMMARY:American Library in Paris Gala with Amy Tan
DESCRIPTION:[vc_row][vc_column][vc_column_text css=””]Join us at 7PM on Thursday\, 4 June 2026\, at the Automobile Club de France for an unforgettable evening celebrating literature\, creativity\, and the enduring mission of the Library.  This annual Gala is the Library’s most significant fundraising event of the year\, directly supporting our collection\, programs\, and services that have inspired readers\, writers\, and thinkers for over 105 years. Amy Tan\, acclaimed author of The Joy Luck Club and The Backyard Bird Chronicles\, will be the 2026 American Library in Paris Gala Honoree. \n  \nRead More and Purchase your Gala Tickets Here\n \n[/vc_column_text][/vc_column][/vc_row][vc_row][vc_column][vc_single_image image=”78891″ img_size=”full” alignment=”center” onclick=”custom_link” css=”” link=”https://americanlibraryinparis.org/gala/”][/vc_column][/vc_row]
URL:https://americanlibraryinparis.org/event/gala2026/
LOCATION:Automobile Club de France
CATEGORIES:Adults,Evenings with an Author,General,Ways of Seeing
ATTACH;FMTTYPE=image/png:https://americanlibraryinparis.org/wp-content/uploads/2026/04/vanAgtmael-2.png
END:VEVENT
END:VCALENDAR