BEGIN:VCALENDAR
VERSION:2.0
PRODID:-//The American Library in Paris - ECPv6.15.20//NONSGML v1.0//EN
CALSCALE:GREGORIAN
METHOD:PUBLISH
X-ORIGINAL-URL:https://americanlibraryinparis.org
X-WR-CALDESC:Events for The American Library in Paris
REFRESH-INTERVAL;VALUE=DURATION:PT1H
X-Robots-Tag:noindex
X-PUBLISHED-TTL:PT1H
BEGIN:VTIMEZONE
TZID:Europe/Paris
BEGIN:DAYLIGHT
TZOFFSETFROM:+0100
TZOFFSETTO:+0200
TZNAME:CEST
DTSTART:20220327T010000
END:DAYLIGHT
BEGIN:STANDARD
TZOFFSETFROM:+0200
TZOFFSETTO:+0100
TZNAME:CET
DTSTART:20221030T010000
END:STANDARD
BEGIN:DAYLIGHT
TZOFFSETFROM:+0100
TZOFFSETTO:+0200
TZNAME:CEST
DTSTART:20230326T010000
END:DAYLIGHT
BEGIN:STANDARD
TZOFFSETFROM:+0200
TZOFFSETTO:+0100
TZNAME:CET
DTSTART:20231029T010000
END:STANDARD
BEGIN:DAYLIGHT
TZOFFSETFROM:+0100
TZOFFSETTO:+0200
TZNAME:CEST
DTSTART:20240331T010000
END:DAYLIGHT
BEGIN:STANDARD
TZOFFSETFROM:+0200
TZOFFSETTO:+0100
TZNAME:CET
DTSTART:20241027T010000
END:STANDARD
END:VTIMEZONE
BEGIN:VEVENT
DTSTART;TZID=Europe/Paris:20230413T193000
DTEND;TZID=Europe/Paris:20230413T203000
DTSTAMP:20260420T113527
CREATED:20230309T163258Z
LAST-MODIFIED:20230318T171640Z
UID:49288-1681414200-1681417800@americanlibraryinparis.org
SUMMARY:Moving Up to C.P. (in partnership with AAWE) (for parents and caregivers)
DESCRIPTION:[vc_row][vc_column][vc_column_text]The Library is pleased to present this panel discussion in partnership with the Association of American Women in Europe (AAWE). \nWithin the French education system\, the transition from maternelle (pre-school) to primaire  (primary school) is an exciting step for most children. The Cours Préparatoire (or CP) is the first year of primary school (primaire)\, when children begin their formal education and learn to write and develop their reading skills. Our panel discussion with professionals and parents will cover: what to consider when making choices about the best C.P. options for your child; what is available in Paris in terms of private and public schools and how to apply to them; developmental insights into this age group; and practical advice for helping your children thrive during this crucial step in their education. \nThe speakers will include: \nElaine Bowman: mom to two bilingual boys who were both born in France. She is currently the Campus Director of the Bilingual Montessori School Paris in the American Church of Paris and member of the AAWE Education Committee. \nJessica Lament: a multi-certified teacher and coach specialized in integrating diverse learners and instruction that maximize student engagement.  She is currently Vice President of SPRINT and co-founder of  School Partner Consulting. \nMichelle O’ Brien: is co-founder of A Good Start in France. She is a bi-national French/American born in Long Island N.Y who has lived and worked in many countries around the world and studied in both France and the US. She actively contributes to the social & educational Anglophone organizations in Paris helping new expatriates enjoy and benefit from their time in France. \nNancy Jochimek: began her career in New York\, before moving to Paris  where she is now a successful business woman. She is the mother of a bilingual son who has just moved up to C.P.  She did a great deal of research into the best option for her son and will be sharing how she chose her son’s program\, and why it was the best choice for him. \nSusan Zeitouni: is an Italian/American\, who was born and raised in Rome\, Italy.  She completed her university education in the U.S.\, and moved to Paris in 1981. She is married to a French national and raised her child in France. With her 26 years in the relocation industry she has extensive experience advising families from around the world on schooling choices for their children. She is the co-founder of A Good Start in Paris.[/vc_column_text][vc_column_text css=”.vc_custom_1678378836584{border-left-width: 8px !important;padding-left: 8px !important;border-left-color: #9e0143 !important;border-left-style: solid !important;}”]Important information: This event is free and open to the public (with a 10€ suggested donation). This event requires advance registration. Questions about collections and programs for children\, teens and families can be sent to the Library’s Children’s and Teens’ Services Manager\, Celeste Rhoads: celeste@americanlibraryinparis.org.[/vc_column_text][vc_row_inner][vc_column_inner width=”1/2″][vc_btn title=”Library Policy” style=”custom” custom_background=”#194573″ custom_text=”#ffffff” size=”lg” align=”center” i_icon_fontawesome=”fas fa-child” add_icon=”true” link=”url:https%3A%2F%2Famericanlibraryinparis.org%2Fchildren-in-the-library-policy%2F|target:_blank”][/vc_column_inner][vc_column_inner width=”1/2″][vc_btn title=”Register here” style=”custom” custom_background=”#194573″ custom_text=”#ffffff” size=”lg” align=”center” i_icon_fontawesome=”fas fa-marker” add_icon=”true” link=”url:https%3A%2F%2Fdocs.google.com%2Fforms%2Fd%2Fe%2F1FAIpQLSdRXynVQAPFJFllmWvJYCaSVdzbPBWd4QmHgBvu6zNF6pi6Cw%2Fviewform%3Fusp%3Dsf_link|target:_blank”][/vc_column_inner][/vc_row_inner][/vc_column][/vc_row]
URL:https://americanlibraryinparis.org/event/moving-up-to-c-p-in-partnership-with-aawe-for-parents-and-caregivers/
LOCATION:The American Library in Paris
CATEGORIES:Adults,General
ATTACH;FMTTYPE=image/jpeg:https://americanlibraryinparis.org/wp-content/uploads/2023/03/to-learn-g325142146_1920.jpg
END:VEVENT
END:VCALENDAR