BEGIN:VCALENDAR
VERSION:2.0
PRODID:-//The American Library in Paris - ECPv6.15.20//NONSGML v1.0//EN
CALSCALE:GREGORIAN
METHOD:PUBLISH
X-WR-CALNAME:The American Library in Paris
X-ORIGINAL-URL:https://americanlibraryinparis.org
X-WR-CALDESC:Events for The American Library in Paris
REFRESH-INTERVAL;VALUE=DURATION:PT1H
X-Robots-Tag:noindex
X-PUBLISHED-TTL:PT1H
BEGIN:VTIMEZONE
TZID:Europe/Paris
BEGIN:DAYLIGHT
TZOFFSETFROM:+0100
TZOFFSETTO:+0200
TZNAME:CEST
DTSTART:20220327T010000
END:DAYLIGHT
BEGIN:STANDARD
TZOFFSETFROM:+0200
TZOFFSETTO:+0100
TZNAME:CET
DTSTART:20221030T010000
END:STANDARD
BEGIN:DAYLIGHT
TZOFFSETFROM:+0100
TZOFFSETTO:+0200
TZNAME:CEST
DTSTART:20230326T010000
END:DAYLIGHT
BEGIN:STANDARD
TZOFFSETFROM:+0200
TZOFFSETTO:+0100
TZNAME:CET
DTSTART:20231029T010000
END:STANDARD
BEGIN:DAYLIGHT
TZOFFSETFROM:+0100
TZOFFSETTO:+0200
TZNAME:CEST
DTSTART:20240331T010000
END:DAYLIGHT
BEGIN:STANDARD
TZOFFSETFROM:+0200
TZOFFSETTO:+0100
TZNAME:CET
DTSTART:20241027T010000
END:STANDARD
END:VTIMEZONE
BEGIN:VEVENT
DTSTART;TZID=Europe/Paris:20230325T150000
DTEND;TZID=Europe/Paris:20230325T160000
DTSTAMP:20260420T130715
CREATED:20230308T131503Z
LAST-MODIFIED:20230308T131909Z
UID:49225-1679756400-1679760000@americanlibraryinparis.org
SUMMARY:The Stages of Reading Development (for parents and caregivers)
DESCRIPTION:[vc_row][vc_column][vc_column_text]Join us for an afternoon discussion on reading and multilingualism. Dr. Allison Peck\, in interview with Children’s and Teens’ Services Manager Celeste Rhoads\, will address how caregivers can help children strengthen reading skills at home\, what to look for as red flags in reading development for children\, how multilingualism plays into reading\, what it might look like for beginning readers in multiple languages simultaneously\, as well as what research-backed strategies and practices can be implemented at home to strengthen reading. The interview will be followed by an audience Q&A. \n  \nAbout Dr. Allison Peck: Dr. Allison Peck is currently the Chief Academic Officer at Neuhaus Education Center in Houston\, Texas. She holds certifications as a Certified Academic Language Therapist-Qualified Instructor\, Licensed Dyslexia Therapist for the state of Texas\, and a Structured Literacy Dyslexia Specialist per the International Dyslexia Association. She is a special education\, general education\, and reading specialist teacher\, with her experience being in the public school (middle school) and private school (elementary) realms for the last 18 years. She started her journey in the field of education after her oldest child was diagnosed with dyslexia. Allison has a BA in Political Science\, an MLA in History\, and an MEd in Curriculum and Instruction. She completed her Ph.D. in Literacy at St. John’s University in New York.[/vc_column_text][vc_column_text css=”.vc_custom_1678280106646{border-left-width: 8px !important;padding-left: 8px !important;border-left-color: #9e0143 !important;border-left-style: solid !important;}”]Important information: This event is for Library members\, and advance registration is required. Attendees are expected to familiarize themselves with the Library Policy for Children and the Rules and Code of Conduct so that we can provide a pleasant library environment for all patrons. Questions about collections and programs for children\, teens and families can be sent to the Library’s Children’s and Teens’ Services Manager\, Celeste Rhoads: celeste@americanlibraryinparis.org.[/vc_column_text][vc_row_inner][vc_column_inner width=”1/2″][vc_btn title=”Library Policy” style=”custom” custom_background=”#194573″ custom_text=”#ffffff” size=”lg” align=”center” i_icon_fontawesome=”fas fa-child” add_icon=”true” link=”url:https%3A%2F%2Famericanlibraryinparis.org%2Fchildren-in-the-library-policy%2F|target:_blank”][/vc_column_inner][vc_column_inner width=”1/2″][vc_btn title=”Register here” style=”custom” custom_background=”#194573″ custom_text=”#ffffff” size=”lg” align=”center” i_icon_fontawesome=”fas fa-marker” add_icon=”true” link=”url:https%3A%2F%2Fdocs.google.com%2Fforms%2Fd%2Fe%2F1FAIpQLSeED3Isl2EnCiZgITe4hPjL8yMP1tkdg1nlxwTIYsYcYtRuLw%2Fviewform%3Fusp%3Dsf_link|target:_blank”][/vc_column_inner][/vc_row_inner][/vc_column][/vc_row]
URL:https://americanlibraryinparis.org/event/the-stages-of-reading-development-for-parents-and-caregivers/
LOCATION:The American Library in Paris
CATEGORIES:Adults,General
ATTACH;FMTTYPE=image/jpeg:https://americanlibraryinparis.org/wp-content/uploads/2023/03/children-studying-ga5227704c_1920.jpg
END:VEVENT
END:VCALENDAR