BEGIN:VCALENDAR
VERSION:2.0
PRODID:-//The American Library in Paris - ECPv6.15.20//NONSGML v1.0//EN
CALSCALE:GREGORIAN
METHOD:PUBLISH
X-WR-CALNAME:The American Library in Paris
X-ORIGINAL-URL:https://americanlibraryinparis.org
X-WR-CALDESC:Events for The American Library in Paris
REFRESH-INTERVAL;VALUE=DURATION:PT1H
X-Robots-Tag:noindex
X-PUBLISHED-TTL:PT1H
BEGIN:VTIMEZONE
TZID:Europe/Paris
BEGIN:DAYLIGHT
TZOFFSETFROM:+0100
TZOFFSETTO:+0200
TZNAME:CEST
DTSTART:20250330T010000
END:DAYLIGHT
BEGIN:STANDARD
TZOFFSETFROM:+0200
TZOFFSETTO:+0100
TZNAME:CET
DTSTART:20251026T010000
END:STANDARD
BEGIN:DAYLIGHT
TZOFFSETFROM:+0100
TZOFFSETTO:+0200
TZNAME:CEST
DTSTART:20260329T010000
END:DAYLIGHT
BEGIN:STANDARD
TZOFFSETFROM:+0200
TZOFFSETTO:+0100
TZNAME:CET
DTSTART:20261025T010000
END:STANDARD
BEGIN:DAYLIGHT
TZOFFSETFROM:+0100
TZOFFSETTO:+0200
TZNAME:CEST
DTSTART:20270328T010000
END:DAYLIGHT
BEGIN:STANDARD
TZOFFSETFROM:+0200
TZOFFSETTO:+0100
TZNAME:CET
DTSTART:20271031T010000
END:STANDARD
END:VTIMEZONE
BEGIN:VEVENT
DTSTART;TZID=Europe/Paris:20260425T110000
DTEND;TZID=Europe/Paris:20260425T120000
DTSTAMP:20260425T163902
CREATED:20260417T095959Z
LAST-MODIFIED:20260417T100314Z
UID:79437-1777114800-1777118400@americanlibraryinparis.org
SUMMARY:Saturday Series: Paper Blooms (ages 6–12)
DESCRIPTION:[vc_row][vc_column][vc_column_text css=””]Look at collage work in children’s books\, then create your own cut paper pictures of flowers and blooms\, and paper blooms too. Using the book Cut Paper Pictures: Turn Your Art and Photos into Personalized Collages by Clover Robin as inspiration\, Member Services Assistant Colette Dia and volunteers will help participants create their own own works of art. \nThis activity is entirely in English\, and no translation will be provided. All participants must be able to understand and speak English in order to participate in the program. Caregivers and parents of young children are encouraged to participate in this event with their children. Children between the ages 6–12 may participate in Library programs on their own\, while their chaperone remains inside the Library.[/vc_column_text][vc_column_text css=”.vc_custom_1686067596052{border-left-width: 8px !important;padding-left: 8px !important;border-left-color: #9e0143 !important;border-left-style: solid !important;}”]Important information: This event is for Library members\, and advance registration is required. Caregivers are expected to familiarize themselves with the Library Policy for Children and the Rules and Code of Conduct so that we can provide a pleasant library environment for all patrons. Questions about collections and programs for children and teens can be sent to the Library’s Children and Teens Services Manager\, Celeste Rhoads: celeste@americanlibraryinparis.org.[/vc_column_text][vc_row_inner][vc_column_inner width=”1/2″][vc_btn title=”Library Policy” style=”custom” custom_background=”#194573″ custom_text=”#ffffff” size=”lg” align=”center” i_icon_fontawesome=”fas fa-child” add_icon=”true” link=”url:https%3A%2F%2Famericanlibraryinparis.org%2Fchildren-in-the-library-policy%2F|target:_blank”][/vc_column_inner][vc_column_inner width=”1/2″][vc_btn title=”Register here” style=”custom” custom_background=”#194573″ custom_text=”#ffffff” size=”lg” align=”center” i_icon_fontawesome=”” css=”” add_icon=”true” link=”url:https%3A%2F%2Fdocs.google.com%2Fforms%2Fd%2Fe%2F1FAIpQLSeuewbbvsfwsIRzJ-W4xj78-EH0owgb-lNFEBB2io4TJblGxQ%2Fviewform%3Fusp%3Ddialog|target:_blank”][/vc_column_inner][/vc_row_inner][/vc_column][/vc_row]
URL:https://americanlibraryinparis.org/event/paper-blooms-2026/
LOCATION:The American Library in Paris
CATEGORIES:Kids
ATTACH;FMTTYPE=image/png:https://americanlibraryinparis.org/wp-content/uploads/2026/04/paper-blooms-collage.png
END:VEVENT
END:VCALENDAR